BEGIN:VCALENDAR
VERSION:2.0
PRODID:karlsunruh.org
METHOD:REQUEST
BEGIN:VEVENT
UID:9002eefb-fbd5-45d4-a2a5-5d18adba44d4
URL:https://karlsunruh.org/event/9002eefb-fbd5-45d4-a2a5-5d18adba44d4
SUMMARY:Anarchistischer Stammtisch
DTSTART:20260423T163000Z
CATEGORIES:Treffen\,Anarchismus
DESCRIPTION:
LOCATION:Kuna\, Schauenburgstr. 5\, 76135 Karlsruhe
GEO:48.9890192;8.3718512
ORGANIZER:mailto:Kuna
END:VEVENT
BEGIN:VEVENT
UID:b386dfbb-29bb-46a9-a294-618786e1f3c4
URL:https://karlsunruh.org/event/b386dfbb-29bb-46a9-a294-618786e1f3c4
SUMMARY:Poly-Abend
DTSTART:20260424T150000Z
CATEGORIES:Treffen\,Queerfeminismus
DESCRIPTION:Wir laden wieder ein zum Polyamorie-Diskussionsabend am
  Freitag\, den 24.04. im KUNA (ehemals Café Noir).\n\nAb 17Uhr wird
  gekocht\, ab 19Uhr gibt es Essen und ab 19:30Uhr geht es los. \n\nWir
  sitzen gemütlich in kleinen Diskussionsrunden zusammen und diskutieren
  tiefer über \nThemen rund um Poly und Beziehung\, die uns gerade in den
  Sinn kommen. \nAuf Spendenbasis gibt es Essen und Getränke. <3\nWir
  freuen uns wieder auf einen schönen und entspannten Abend mit euch!
  \nBei Fragen oder Feedback könnt ihr euch gerne hier melden:
  kapoly@familymail.de
LOCATION:Kuna\, Schauenburgstr. 5\, 76135 Karlsruhe
GEO:48.9890192;8.3718512
ORGANIZER:mailto:Kuna
END:VEVENT
BEGIN:VEVENT
UID:b4b7578d-6ceb-4312-a1c4-859dca602401
URL:https://karlsunruh.org/event/b4b7578d-6ceb-4312-a1c4-859dca602401
SUMMARY:Pasta-Montag
DTSTART:20260427T130000Z
DTEND:20260427T170000Z
CATEGORIES:Bar/Cafe\,Anarchismus
DESCRIPTION:Jeden Montag in Kuna gibt es Pasta mit Sauce.\n\nImmer vegan\,
  immer auf Spendenbasis!\n\nab 15 Uhr geöffnet\nab 17 Uhr Pasta 
LOCATION:Kuna\, Schauenburgstr. 5\, 76135 Karlsruhe
GEO:48.9890192;8.3718512
ORGANIZER:mailto:Kuna
END:VEVENT
BEGIN:VEVENT
UID:5f97bd6b-86ba-4170-ad38-24fdf36411f6
URL:https://karlsunruh.org/event/5f97bd6b-86ba-4170-ad38-24fdf36411f6
SUMMARY:KüfA – Küche für Alle
DTSTART:20260428T150000Z
DTEND:20260428T200000Z
CATEGORIES:Bar/Cafe\,Sonstiges
DESCRIPTION:Jeden Dienstag gibt's KüfA im Kuna!\n\nKüche für Alle –
  immer vegan\, immer auf Spendenbasis!\n\nab 17 Uhr Schnibbeln\nab 19 Uhr
  Mampfen\n\nEinfach vorbeikommen\, mitkochen oder mitfuttern! Bringt eure
  Freund*innen\, Nachbar*innen\, Hausspinnen oder befreundeten
  Schrankwände mit.\n\njeden 1. Dienstag im Monat von den Kohlrabis\njeden
  2. Dienstag im Monat von den KüchenschAben\njeden 3. Dienstag im Monat
  von Weiche Kanten
LOCATION:Kuna\, Schauenburgstr. 5\, 76135 Karlsruhe
GEO:48.9890192;8.3718512
ORGANIZER:mailto:Kuna
END:VEVENT
BEGIN:VEVENT
UID:c9c6a97e-4a82-4183-b81c-b9cb90c41387
URL:https://karlsunruh.org/event/c9c6a97e-4a82-4183-b81c-b9cb90c41387
SUMMARY:Pasta-Montag
DTSTART:20260504T130000Z
DTEND:20260504T170000Z
CATEGORIES:Bar/Cafe\,Anarchismus
DESCRIPTION:Jeden Montag in Kuna gibt es Pasta mit Sauce.\n\nImmer vegan\,
  immer auf Spendenbasis!\n\nab 15 Uhr geöffnet\nab 17 Uhr Pasta 
LOCATION:Kuna\, Schauenburgstr. 5\, 76135 Karlsruhe
GEO:48.9890192;8.3718512
ORGANIZER:mailto:Kuna
END:VEVENT
BEGIN:VEVENT
UID:18abf433-7f4a-48b3-8ba9-88f79e40ba86
URL:https://karlsunruh.org/event/18abf433-7f4a-48b3-8ba9-88f79e40ba86
SUMMARY:KüfA – Küche für Alle
DTSTART:20260505T150000Z
DTEND:20260505T200000Z
CATEGORIES:Bar/Cafe\,Sonstiges
DESCRIPTION:Jeden Dienstag gibt's KüfA im Kuna!\n\nKüche für Alle –
  immer vegan\, immer auf Spendenbasis!\n\nab 17 Uhr Schnibbeln\nab 19 Uhr
  Mampfen\n\nEinfach vorbeikommen\, mitkochen oder mitfuttern! Bringt eure
  Freund*innen\, Nachbar*innen\, Hausspinnen oder befreundeten
  Schrankwände mit.\n\njeden 1. Dienstag im Monat von den Kohlrabis\njeden
  2. Dienstag im Monat von den KüchenschAben\njeden 3. Dienstag im Monat
  von Weiche Kanten
LOCATION:Kuna\, Schauenburgstr. 5\, 76135 Karlsruhe
GEO:48.9890192;8.3718512
ORGANIZER:mailto:Kuna
END:VEVENT
BEGIN:VEVENT
UID:38eba52e-b8ed-4362-b5a4-14b63aac0f02
URL:https://karlsunruh.org/event/38eba52e-b8ed-4362-b5a4-14b63aac0f02
SUMMARY:Pasta-Montag
DTSTART:20260511T130000Z
DTEND:20260511T170000Z
CATEGORIES:Bar/Cafe\,Anarchismus
DESCRIPTION:Jeden Montag in Kuna gibt es Pasta mit Sauce.\n\nImmer vegan\,
  immer auf Spendenbasis!\n\nab 15 Uhr geöffnet\nab 17 Uhr Pasta 
LOCATION:Kuna\, Schauenburgstr. 5\, 76135 Karlsruhe
GEO:48.9890192;8.3718512
ORGANIZER:mailto:Kuna
END:VEVENT
BEGIN:VEVENT
UID:595cb534-30e0-4598-adbc-34a90cccef3f
URL:https://karlsunruh.org/event/595cb534-30e0-4598-adbc-34a90cccef3f
SUMMARY:KüfA – Küche für Alle
DTSTART:20260512T150000Z
DTEND:20260512T200000Z
CATEGORIES:Bar/Cafe\,Sonstiges
DESCRIPTION:Jeden Dienstag gibt's KüfA im Kuna!\n\nKüche für Alle –
  immer vegan\, immer auf Spendenbasis!\n\nab 17 Uhr Schnibbeln\nab 19 Uhr
  Mampfen\n\nEinfach vorbeikommen\, mitkochen oder mitfuttern! Bringt eure
  Freund*innen\, Nachbar*innen\, Hausspinnen oder befreundeten
  Schrankwände mit.\n\njeden 1. Dienstag im Monat von den Kohlrabis\njeden
  2. Dienstag im Monat von den KüchenschAben\njeden 3. Dienstag im Monat
  von Weiche Kanten
LOCATION:Kuna\, Schauenburgstr. 5\, 76135 Karlsruhe
GEO:48.9890192;8.3718512
ORGANIZER:mailto:Kuna
END:VEVENT
BEGIN:VEVENT
UID:1c93e258-be89-4b62-92d9-64209807b9f1
URL:https://karlsunruh.org/event/1c93e258-be89-4b62-92d9-64209807b9f1
SUMMARY:Pasta-Montag
DTSTART:20260518T130000Z
DTEND:20260518T170000Z
CATEGORIES:Bar/Cafe\,Anarchismus
DESCRIPTION:Jeden Montag in Kuna gibt es Pasta mit Sauce.\n\nImmer vegan\,
  immer auf Spendenbasis!\n\nab 15 Uhr geöffnet\nab 17 Uhr Pasta 
LOCATION:Kuna\, Schauenburgstr. 5\, 76135 Karlsruhe
GEO:48.9890192;8.3718512
ORGANIZER:mailto:Kuna
END:VEVENT
BEGIN:VEVENT
UID:30168794-bb59-4b41-8db7-ec400156af40
URL:https://karlsunruh.org/event/30168794-bb59-4b41-8db7-ec400156af40
SUMMARY:KüfA – Küche für Alle
DTSTART:20260519T150000Z
DTEND:20260519T200000Z
CATEGORIES:Bar/Cafe\,Sonstiges
DESCRIPTION:Jeden Dienstag gibt's KüfA im Kuna!\n\nKüche für Alle –
  immer vegan\, immer auf Spendenbasis!\n\nab 17 Uhr Schnibbeln\nab 19 Uhr
  Mampfen\n\nEinfach vorbeikommen\, mitkochen oder mitfuttern! Bringt eure
  Freund*innen\, Nachbar*innen\, Hausspinnen oder befreundeten
  Schrankwände mit.\n\njeden 1. Dienstag im Monat von den Kohlrabis\njeden
  2. Dienstag im Monat von den KüchenschAben\njeden 3. Dienstag im Monat
  von Weiche Kanten
LOCATION:Kuna\, Schauenburgstr. 5\, 76135 Karlsruhe
GEO:48.9890192;8.3718512
ORGANIZER:mailto:Kuna
END:VEVENT
BEGIN:VEVENT
UID:aad4a3cc-6eca-4744-9f1c-ece33f0a333e
URL:https://karlsunruh.org/event/aad4a3cc-6eca-4744-9f1c-ece33f0a333e
SUMMARY:Pasta-Montag
DTSTART:20260525T130000Z
DTEND:20260525T170000Z
CATEGORIES:Bar/Cafe\,Anarchismus
DESCRIPTION:Jeden Montag in Kuna gibt es Pasta mit Sauce.\n\nImmer vegan\,
  immer auf Spendenbasis!\n\nab 15 Uhr geöffnet\nab 17 Uhr Pasta 
LOCATION:Kuna\, Schauenburgstr. 5\, 76135 Karlsruhe
GEO:48.9890192;8.3718512
ORGANIZER:mailto:Kuna
END:VEVENT
BEGIN:VEVENT
UID:6c717174-f0f5-4db3-9d57-780abb4c9908
URL:https://karlsunruh.org/event/6c717174-f0f5-4db3-9d57-780abb4c9908
SUMMARY:KüfA – Küche für Alle
DTSTART:20260526T150000Z
DTEND:20260526T200000Z
CATEGORIES:Bar/Cafe\,Sonstiges
DESCRIPTION:Jeden Dienstag gibt's KüfA im Kuna!\n\nKüche für Alle –
  immer vegan\, immer auf Spendenbasis!\n\nab 17 Uhr Schnibbeln\nab 19 Uhr
  Mampfen\n\nEinfach vorbeikommen\, mitkochen oder mitfuttern! Bringt eure
  Freund*innen\, Nachbar*innen\, Hausspinnen oder befreundeten
  Schrankwände mit.\n\njeden 1. Dienstag im Monat von den Kohlrabis\njeden
  2. Dienstag im Monat von den KüchenschAben\njeden 3. Dienstag im Monat
  von Weiche Kanten
LOCATION:Kuna\, Schauenburgstr. 5\, 76135 Karlsruhe
GEO:48.9890192;8.3718512
ORGANIZER:mailto:Kuna
END:VEVENT
BEGIN:VEVENT
UID:d5b04271-e3e3-443f-b578-8715ac6ed088
URL:https://karlsunruh.org/event/d5b04271-e3e3-443f-b578-8715ac6ed088
SUMMARY:Pasta-Montag
DTSTART:20260601T130000Z
DTEND:20260601T170000Z
CATEGORIES:Bar/Cafe\,Anarchismus
DESCRIPTION:Jeden Montag in Kuna gibt es Pasta mit Sauce.\n\nImmer vegan\,
  immer auf Spendenbasis!\n\nab 15 Uhr geöffnet\nab 17 Uhr Pasta 
LOCATION:Kuna\, Schauenburgstr. 5\, 76135 Karlsruhe
GEO:48.9890192;8.3718512
ORGANIZER:mailto:Kuna
END:VEVENT
BEGIN:VEVENT
UID:a79b0990-18d7-48c4-a006-1a6cc758690d
URL:https://karlsunruh.org/event/a79b0990-18d7-48c4-a006-1a6cc758690d
SUMMARY:KüfA – Küche für Alle
DTSTART:20260602T150000Z
DTEND:20260602T200000Z
CATEGORIES:Bar/Cafe\,Sonstiges
DESCRIPTION:Jeden Dienstag gibt's KüfA im Kuna!\n\nKüche für Alle –
  immer vegan\, immer auf Spendenbasis!\n\nab 17 Uhr Schnibbeln\nab 19 Uhr
  Mampfen\n\nEinfach vorbeikommen\, mitkochen oder mitfuttern! Bringt eure
  Freund*innen\, Nachbar*innen\, Hausspinnen oder befreundeten
  Schrankwände mit.\n\njeden 1. Dienstag im Monat von den Kohlrabis\njeden
  2. Dienstag im Monat von den KüchenschAben\njeden 3. Dienstag im Monat
  von Weiche Kanten
LOCATION:Kuna\, Schauenburgstr. 5\, 76135 Karlsruhe
GEO:48.9890192;8.3718512
ORGANIZER:mailto:Kuna
END:VEVENT
BEGIN:VEVENT
UID:72b90f38-65e0-4144-a508-962181895b48
URL:https://karlsunruh.org/event/72b90f38-65e0-4144-a508-962181895b48
SUMMARY:Pasta-Montag
DTSTART:20260608T130000Z
DTEND:20260608T170000Z
CATEGORIES:Bar/Cafe\,Anarchismus
DESCRIPTION:Jeden Montag in Kuna gibt es Pasta mit Sauce.\n\nImmer vegan\,
  immer auf Spendenbasis!\n\nab 15 Uhr geöffnet\nab 17 Uhr Pasta 
LOCATION:Kuna\, Schauenburgstr. 5\, 76135 Karlsruhe
GEO:48.9890192;8.3718512
ORGANIZER:mailto:Kuna
END:VEVENT
BEGIN:VEVENT
UID:9e65c431-f0a0-457e-9738-c90b6d231271
URL:https://karlsunruh.org/event/9e65c431-f0a0-457e-9738-c90b6d231271
SUMMARY:KüfA – Küche für Alle
DTSTART:20260609T150000Z
DTEND:20260609T200000Z
CATEGORIES:Bar/Cafe\,Sonstiges
DESCRIPTION:Jeden Dienstag gibt's KüfA im Kuna!\n\nKüche für Alle –
  immer vegan\, immer auf Spendenbasis!\n\nab 17 Uhr Schnibbeln\nab 19 Uhr
  Mampfen\n\nEinfach vorbeikommen\, mitkochen oder mitfuttern! Bringt eure
  Freund*innen\, Nachbar*innen\, Hausspinnen oder befreundeten
  Schrankwände mit.\n\njeden 1. Dienstag im Monat von den Kohlrabis\njeden
  2. Dienstag im Monat von den KüchenschAben\njeden 3. Dienstag im Monat
  von Weiche Kanten
LOCATION:Kuna\, Schauenburgstr. 5\, 76135 Karlsruhe
GEO:48.9890192;8.3718512
ORGANIZER:mailto:Kuna
END:VEVENT
BEGIN:VEVENT
UID:0aa33d0b-b25e-4935-91d8-4f09b0c85184
URL:https://karlsunruh.org/event/0aa33d0b-b25e-4935-91d8-4f09b0c85184
SUMMARY:Pasta-Montag
DTSTART:20260615T130000Z
DTEND:20260615T170000Z
CATEGORIES:Bar/Cafe\,Anarchismus
DESCRIPTION:Jeden Montag in Kuna gibt es Pasta mit Sauce.\n\nImmer vegan\,
  immer auf Spendenbasis!\n\nab 15 Uhr geöffnet\nab 17 Uhr Pasta 
LOCATION:Kuna\, Schauenburgstr. 5\, 76135 Karlsruhe
GEO:48.9890192;8.3718512
ORGANIZER:mailto:Kuna
END:VEVENT
BEGIN:VEVENT
UID:648b5116-9778-407f-a507-d893c277a097
URL:https://karlsunruh.org/event/648b5116-9778-407f-a507-d893c277a097
SUMMARY:KüfA – Küche für Alle
DTSTART:20260616T150000Z
DTEND:20260616T200000Z
CATEGORIES:Bar/Cafe\,Sonstiges
DESCRIPTION:Jeden Dienstag gibt's KüfA im Kuna!\n\nKüche für Alle –
  immer vegan\, immer auf Spendenbasis!\n\nab 17 Uhr Schnibbeln\nab 19 Uhr
  Mampfen\n\nEinfach vorbeikommen\, mitkochen oder mitfuttern! Bringt eure
  Freund*innen\, Nachbar*innen\, Hausspinnen oder befreundeten
  Schrankwände mit.\n\njeden 1. Dienstag im Monat von den Kohlrabis\njeden
  2. Dienstag im Monat von den KüchenschAben\njeden 3. Dienstag im Monat
  von Weiche Kanten
LOCATION:Kuna\, Schauenburgstr. 5\, 76135 Karlsruhe
GEO:48.9890192;8.3718512
ORGANIZER:mailto:Kuna
END:VEVENT
BEGIN:VEVENT
UID:129331b0-411d-4ec5-b1b0-55ac12c5e063
URL:https://karlsunruh.org/event/129331b0-411d-4ec5-b1b0-55ac12c5e063
SUMMARY:Pasta-Montag
DTSTART:20260622T130000Z
DTEND:20260622T170000Z
CATEGORIES:Bar/Cafe\,Anarchismus
DESCRIPTION:Jeden Montag in Kuna gibt es Pasta mit Sauce.\n\nImmer vegan\,
  immer auf Spendenbasis!\n\nab 15 Uhr geöffnet\nab 17 Uhr Pasta 
LOCATION:Kuna\, Schauenburgstr. 5\, 76135 Karlsruhe
GEO:48.9890192;8.3718512
ORGANIZER:mailto:Kuna
END:VEVENT
BEGIN:VEVENT
UID:dfa72d41-f048-4460-b761-b2f730057d9e
URL:https://karlsunruh.org/event/dfa72d41-f048-4460-b761-b2f730057d9e
SUMMARY:KüfA – Küche für Alle
DTSTART:20260623T150000Z
DTEND:20260623T200000Z
CATEGORIES:Bar/Cafe\,Sonstiges
DESCRIPTION:Jeden Dienstag gibt's KüfA im Kuna!\n\nKüche für Alle –
  immer vegan\, immer auf Spendenbasis!\n\nab 17 Uhr Schnibbeln\nab 19 Uhr
  Mampfen\n\nEinfach vorbeikommen\, mitkochen oder mitfuttern! Bringt eure
  Freund*innen\, Nachbar*innen\, Hausspinnen oder befreundeten
  Schrankwände mit.\n\njeden 1. Dienstag im Monat von den Kohlrabis\njeden
  2. Dienstag im Monat von den KüchenschAben\njeden 3. Dienstag im Monat
  von Weiche Kanten
LOCATION:Kuna\, Schauenburgstr. 5\, 76135 Karlsruhe
GEO:48.9890192;8.3718512
ORGANIZER:mailto:Kuna
END:VEVENT
BEGIN:VEVENT
UID:c69ab8a6-b793-42ca-be6d-2a62ed1c16c0
URL:https://karlsunruh.org/event/c69ab8a6-b793-42ca-be6d-2a62ed1c16c0
SUMMARY:Pasta-Montag
DTSTART:20260629T130000Z
DTEND:20260629T170000Z
CATEGORIES:Bar/Cafe\,Anarchismus
DESCRIPTION:Jeden Montag in Kuna gibt es Pasta mit Sauce.\n\nImmer vegan\,
  immer auf Spendenbasis!\n\nab 15 Uhr geöffnet\nab 17 Uhr Pasta 
LOCATION:Kuna\, Schauenburgstr. 5\, 76135 Karlsruhe
GEO:48.9890192;8.3718512
ORGANIZER:mailto:Kuna
END:VEVENT
BEGIN:VEVENT
UID:143d84c7-d1e6-4637-bc8e-75e37f37401d
URL:https://karlsunruh.org/event/143d84c7-d1e6-4637-bc8e-75e37f37401d
SUMMARY:KüfA – Küche für Alle
DTSTART:20260630T150000Z
DTEND:20260630T200000Z
CATEGORIES:Bar/Cafe\,Sonstiges
DESCRIPTION:Jeden Dienstag gibt's KüfA im Kuna!\n\nKüche für Alle –
  immer vegan\, immer auf Spendenbasis!\n\nab 17 Uhr Schnibbeln\nab 19 Uhr
  Mampfen\n\nEinfach vorbeikommen\, mitkochen oder mitfuttern! Bringt eure
  Freund*innen\, Nachbar*innen\, Hausspinnen oder befreundeten
  Schrankwände mit.\n\njeden 1. Dienstag im Monat von den Kohlrabis\njeden
  2. Dienstag im Monat von den KüchenschAben\njeden 3. Dienstag im Monat
  von Weiche Kanten
LOCATION:Kuna\, Schauenburgstr. 5\, 76135 Karlsruhe
GEO:48.9890192;8.3718512
ORGANIZER:mailto:Kuna
END:VEVENT
BEGIN:VEVENT
UID:2a3c4445-3b06-44a3-9cb6-0ebd7c201ad3
URL:https://karlsunruh.org/event/2a3c4445-3b06-44a3-9cb6-0ebd7c201ad3
SUMMARY:Pasta-Montag
DTSTART:20260706T130000Z
DTEND:20260706T170000Z
CATEGORIES:Bar/Cafe\,Anarchismus
DESCRIPTION:Jeden Montag in Kuna gibt es Pasta mit Sauce.\n\nImmer vegan\,
  immer auf Spendenbasis!\n\nab 15 Uhr geöffnet\nab 17 Uhr Pasta 
LOCATION:Kuna\, Schauenburgstr. 5\, 76135 Karlsruhe
GEO:48.9890192;8.3718512
ORGANIZER:mailto:Kuna
END:VEVENT
BEGIN:VEVENT
UID:aa706066-71ce-4b0a-b79d-c192a6cab2a1
URL:https://karlsunruh.org/event/aa706066-71ce-4b0a-b79d-c192a6cab2a1
SUMMARY:KüfA – Küche für Alle
DTSTART:20260707T150000Z
DTEND:20260707T200000Z
CATEGORIES:Bar/Cafe\,Sonstiges
DESCRIPTION:Jeden Dienstag gibt's KüfA im Kuna!\n\nKüche für Alle –
  immer vegan\, immer auf Spendenbasis!\n\nab 17 Uhr Schnibbeln\nab 19 Uhr
  Mampfen\n\nEinfach vorbeikommen\, mitkochen oder mitfuttern! Bringt eure
  Freund*innen\, Nachbar*innen\, Hausspinnen oder befreundeten
  Schrankwände mit.\n\njeden 1. Dienstag im Monat von den Kohlrabis\njeden
  2. Dienstag im Monat von den KüchenschAben\njeden 3. Dienstag im Monat
  von Weiche Kanten
LOCATION:Kuna\, Schauenburgstr. 5\, 76135 Karlsruhe
GEO:48.9890192;8.3718512
ORGANIZER:mailto:Kuna
END:VEVENT
BEGIN:VEVENT
UID:0939e6b2-0c9c-4aad-8d76-b76345508d70
URL:https://karlsunruh.org/event/0939e6b2-0c9c-4aad-8d76-b76345508d70
SUMMARY:Pasta-Montag
DTSTART:20260713T130000Z
DTEND:20260713T170000Z
CATEGORIES:Bar/Cafe\,Anarchismus
DESCRIPTION:Jeden Montag in Kuna gibt es Pasta mit Sauce.\n\nImmer vegan\,
  immer auf Spendenbasis!\n\nab 15 Uhr geöffnet\nab 17 Uhr Pasta 
LOCATION:Kuna\, Schauenburgstr. 5\, 76135 Karlsruhe
GEO:48.9890192;8.3718512
ORGANIZER:mailto:Kuna
END:VEVENT
BEGIN:VEVENT
UID:d0ac519f-9c8c-4f1d-a5b1-bdb4f78c5038
URL:https://karlsunruh.org/event/d0ac519f-9c8c-4f1d-a5b1-bdb4f78c5038
SUMMARY:KüfA – Küche für Alle
DTSTART:20260714T150000Z
DTEND:20260714T200000Z
CATEGORIES:Bar/Cafe\,Sonstiges
DESCRIPTION:Jeden Dienstag gibt's KüfA im Kuna!\n\nKüche für Alle –
  immer vegan\, immer auf Spendenbasis!\n\nab 17 Uhr Schnibbeln\nab 19 Uhr
  Mampfen\n\nEinfach vorbeikommen\, mitkochen oder mitfuttern! Bringt eure
  Freund*innen\, Nachbar*innen\, Hausspinnen oder befreundeten
  Schrankwände mit.\n\njeden 1. Dienstag im Monat von den Kohlrabis\njeden
  2. Dienstag im Monat von den KüchenschAben\njeden 3. Dienstag im Monat
  von Weiche Kanten
LOCATION:Kuna\, Schauenburgstr. 5\, 76135 Karlsruhe
GEO:48.9890192;8.3718512
ORGANIZER:mailto:Kuna
END:VEVENT
BEGIN:VEVENT
UID:c56db102-d3a8-4a1b-8030-498f86b2114e
URL:https://karlsunruh.org/event/c56db102-d3a8-4a1b-8030-498f86b2114e
SUMMARY:Pasta-Montag
DTSTART:20260720T130000Z
DTEND:20260720T170000Z
CATEGORIES:Bar/Cafe\,Anarchismus
DESCRIPTION:Jeden Montag in Kuna gibt es Pasta mit Sauce.\n\nImmer vegan\,
  immer auf Spendenbasis!\n\nab 15 Uhr geöffnet\nab 17 Uhr Pasta 
LOCATION:Kuna\, Schauenburgstr. 5\, 76135 Karlsruhe
GEO:48.9890192;8.3718512
ORGANIZER:mailto:Kuna
END:VEVENT
BEGIN:VEVENT
UID:d86ff0a8-372a-4c56-82ae-2989c3f955ec
URL:https://karlsunruh.org/event/d86ff0a8-372a-4c56-82ae-2989c3f955ec
SUMMARY:KüfA – Küche für Alle
DTSTART:20260721T150000Z
DTEND:20260721T200000Z
CATEGORIES:Bar/Cafe\,Sonstiges
DESCRIPTION:Jeden Dienstag gibt's KüfA im Kuna!\n\nKüche für Alle –
  immer vegan\, immer auf Spendenbasis!\n\nab 17 Uhr Schnibbeln\nab 19 Uhr
  Mampfen\n\nEinfach vorbeikommen\, mitkochen oder mitfuttern! Bringt eure
  Freund*innen\, Nachbar*innen\, Hausspinnen oder befreundeten
  Schrankwände mit.\n\njeden 1. Dienstag im Monat von den Kohlrabis\njeden
  2. Dienstag im Monat von den KüchenschAben\njeden 3. Dienstag im Monat
  von Weiche Kanten
LOCATION:Kuna\, Schauenburgstr. 5\, 76135 Karlsruhe
GEO:48.9890192;8.3718512
ORGANIZER:mailto:Kuna
END:VEVENT
BEGIN:VEVENT
UID:3b455856-9598-4680-b95d-0d31a0bde505
URL:https://karlsunruh.org/event/3b455856-9598-4680-b95d-0d31a0bde505
SUMMARY:Pasta-Montag
DTSTART:20260727T130000Z
DTEND:20260727T170000Z
CATEGORIES:Bar/Cafe\,Anarchismus
DESCRIPTION:Jeden Montag in Kuna gibt es Pasta mit Sauce.\n\nImmer vegan\,
  immer auf Spendenbasis!\n\nab 15 Uhr geöffnet\nab 17 Uhr Pasta 
LOCATION:Kuna\, Schauenburgstr. 5\, 76135 Karlsruhe
GEO:48.9890192;8.3718512
ORGANIZER:mailto:Kuna
END:VEVENT
BEGIN:VEVENT
UID:f9135ea7-c79e-4248-9da9-6c3f66d93723
URL:https://karlsunruh.org/event/f9135ea7-c79e-4248-9da9-6c3f66d93723
SUMMARY:KüfA – Küche für Alle
DTSTART:20260728T150000Z
DTEND:20260728T200000Z
CATEGORIES:Bar/Cafe\,Sonstiges
DESCRIPTION:Jeden Dienstag gibt's KüfA im Kuna!\n\nKüche für Alle –
  immer vegan\, immer auf Spendenbasis!\n\nab 17 Uhr Schnibbeln\nab 19 Uhr
  Mampfen\n\nEinfach vorbeikommen\, mitkochen oder mitfuttern! Bringt eure
  Freund*innen\, Nachbar*innen\, Hausspinnen oder befreundeten
  Schrankwände mit.\n\njeden 1. Dienstag im Monat von den Kohlrabis\njeden
  2. Dienstag im Monat von den KüchenschAben\njeden 3. Dienstag im Monat
  von Weiche Kanten
LOCATION:Kuna\, Schauenburgstr. 5\, 76135 Karlsruhe
GEO:48.9890192;8.3718512
ORGANIZER:mailto:Kuna
END:VEVENT
BEGIN:VEVENT
UID:6b3921d4-607b-40ac-b65e-2f40acd35e51
URL:https://karlsunruh.org/event/6b3921d4-607b-40ac-b65e-2f40acd35e51
SUMMARY:Pasta-Montag
DTSTART:20260803T130000Z
DTEND:20260803T170000Z
CATEGORIES:Bar/Cafe\,Anarchismus
DESCRIPTION:Jeden Montag in Kuna gibt es Pasta mit Sauce.\n\nImmer vegan\,
  immer auf Spendenbasis!\n\nab 15 Uhr geöffnet\nab 17 Uhr Pasta 
LOCATION:Kuna\, Schauenburgstr. 5\, 76135 Karlsruhe
GEO:48.9890192;8.3718512
ORGANIZER:mailto:Kuna
END:VEVENT
BEGIN:VEVENT
UID:f570fb3a-5598-4f80-826a-2da9aa83a05b
URL:https://karlsunruh.org/event/f570fb3a-5598-4f80-826a-2da9aa83a05b
SUMMARY:KüfA – Küche für Alle
DTSTART:20260804T150000Z
DTEND:20260804T200000Z
CATEGORIES:Bar/Cafe\,Sonstiges
DESCRIPTION:Jeden Dienstag gibt's KüfA im Kuna!\n\nKüche für Alle –
  immer vegan\, immer auf Spendenbasis!\n\nab 17 Uhr Schnibbeln\nab 19 Uhr
  Mampfen\n\nEinfach vorbeikommen\, mitkochen oder mitfuttern! Bringt eure
  Freund*innen\, Nachbar*innen\, Hausspinnen oder befreundeten
  Schrankwände mit.\n\njeden 1. Dienstag im Monat von den Kohlrabis\njeden
  2. Dienstag im Monat von den KüchenschAben\njeden 3. Dienstag im Monat
  von Weiche Kanten
LOCATION:Kuna\, Schauenburgstr. 5\, 76135 Karlsruhe
GEO:48.9890192;8.3718512
ORGANIZER:mailto:Kuna
END:VEVENT
BEGIN:VEVENT
UID:8c716265-fc22-41d5-a5f6-698dbf732d80
URL:https://karlsunruh.org/event/8c716265-fc22-41d5-a5f6-698dbf732d80
SUMMARY:Pasta-Montag
DTSTART:20260810T130000Z
DTEND:20260810T170000Z
CATEGORIES:Bar/Cafe\,Anarchismus
DESCRIPTION:Jeden Montag in Kuna gibt es Pasta mit Sauce.\n\nImmer vegan\,
  immer auf Spendenbasis!\n\nab 15 Uhr geöffnet\nab 17 Uhr Pasta 
LOCATION:Kuna\, Schauenburgstr. 5\, 76135 Karlsruhe
GEO:48.9890192;8.3718512
ORGANIZER:mailto:Kuna
END:VEVENT
BEGIN:VEVENT
UID:b65068ad-1d1e-40b3-937d-af352c18c9a5
URL:https://karlsunruh.org/event/b65068ad-1d1e-40b3-937d-af352c18c9a5
SUMMARY:KüfA – Küche für Alle
DTSTART:20260811T150000Z
DTEND:20260811T200000Z
CATEGORIES:Bar/Cafe\,Sonstiges
DESCRIPTION:Jeden Dienstag gibt's KüfA im Kuna!\n\nKüche für Alle –
  immer vegan\, immer auf Spendenbasis!\n\nab 17 Uhr Schnibbeln\nab 19 Uhr
  Mampfen\n\nEinfach vorbeikommen\, mitkochen oder mitfuttern! Bringt eure
  Freund*innen\, Nachbar*innen\, Hausspinnen oder befreundeten
  Schrankwände mit.\n\njeden 1. Dienstag im Monat von den Kohlrabis\njeden
  2. Dienstag im Monat von den KüchenschAben\njeden 3. Dienstag im Monat
  von Weiche Kanten
LOCATION:Kuna\, Schauenburgstr. 5\, 76135 Karlsruhe
GEO:48.9890192;8.3718512
ORGANIZER:mailto:Kuna
END:VEVENT
BEGIN:VEVENT
UID:90864d9f-eaf2-49f9-817d-48a965797fb7
URL:https://karlsunruh.org/event/90864d9f-eaf2-49f9-817d-48a965797fb7
SUMMARY:Pasta-Montag
DTSTART:20260817T130000Z
DTEND:20260817T170000Z
CATEGORIES:Bar/Cafe\,Anarchismus
DESCRIPTION:Jeden Montag in Kuna gibt es Pasta mit Sauce.\n\nImmer vegan\,
  immer auf Spendenbasis!\n\nab 15 Uhr geöffnet\nab 17 Uhr Pasta 
LOCATION:Kuna\, Schauenburgstr. 5\, 76135 Karlsruhe
GEO:48.9890192;8.3718512
ORGANIZER:mailto:Kuna
END:VEVENT
BEGIN:VEVENT
UID:032fb3c7-4522-496b-ad50-87d0a7c3c324
URL:https://karlsunruh.org/event/032fb3c7-4522-496b-ad50-87d0a7c3c324
SUMMARY:KüfA – Küche für Alle
DTSTART:20260818T150000Z
DTEND:20260818T200000Z
CATEGORIES:Bar/Cafe\,Sonstiges
DESCRIPTION:Jeden Dienstag gibt's KüfA im Kuna!\n\nKüche für Alle –
  immer vegan\, immer auf Spendenbasis!\n\nab 17 Uhr Schnibbeln\nab 19 Uhr
  Mampfen\n\nEinfach vorbeikommen\, mitkochen oder mitfuttern! Bringt eure
  Freund*innen\, Nachbar*innen\, Hausspinnen oder befreundeten
  Schrankwände mit.\n\njeden 1. Dienstag im Monat von den Kohlrabis\njeden
  2. Dienstag im Monat von den KüchenschAben\njeden 3. Dienstag im Monat
  von Weiche Kanten
LOCATION:Kuna\, Schauenburgstr. 5\, 76135 Karlsruhe
GEO:48.9890192;8.3718512
ORGANIZER:mailto:Kuna
END:VEVENT
BEGIN:VEVENT
UID:7248000c-da3b-4331-a4b8-c8c32cfd8972
URL:https://karlsunruh.org/event/7248000c-da3b-4331-a4b8-c8c32cfd8972
SUMMARY:Pasta-Montag
DTSTART:20260824T130000Z
DTEND:20260824T170000Z
CATEGORIES:Bar/Cafe\,Anarchismus
DESCRIPTION:Jeden Montag in Kuna gibt es Pasta mit Sauce.\n\nImmer vegan\,
  immer auf Spendenbasis!\n\nab 15 Uhr geöffnet\nab 17 Uhr Pasta 
LOCATION:Kuna\, Schauenburgstr. 5\, 76135 Karlsruhe
GEO:48.9890192;8.3718512
ORGANIZER:mailto:Kuna
END:VEVENT
BEGIN:VEVENT
UID:8cf6a85a-728a-4241-8d1e-2a6ac42adb97
URL:https://karlsunruh.org/event/8cf6a85a-728a-4241-8d1e-2a6ac42adb97
SUMMARY:KüfA – Küche für Alle
DTSTART:20260825T150000Z
DTEND:20260825T200000Z
CATEGORIES:Bar/Cafe\,Sonstiges
DESCRIPTION:Jeden Dienstag gibt's KüfA im Kuna!\n\nKüche für Alle –
  immer vegan\, immer auf Spendenbasis!\n\nab 17 Uhr Schnibbeln\nab 19 Uhr
  Mampfen\n\nEinfach vorbeikommen\, mitkochen oder mitfuttern! Bringt eure
  Freund*innen\, Nachbar*innen\, Hausspinnen oder befreundeten
  Schrankwände mit.\n\njeden 1. Dienstag im Monat von den Kohlrabis\njeden
  2. Dienstag im Monat von den KüchenschAben\njeden 3. Dienstag im Monat
  von Weiche Kanten
LOCATION:Kuna\, Schauenburgstr. 5\, 76135 Karlsruhe
GEO:48.9890192;8.3718512
ORGANIZER:mailto:Kuna
END:VEVENT
BEGIN:VEVENT
UID:06eb042f-8008-434f-b233-1a9d32c4b439
URL:https://karlsunruh.org/event/06eb042f-8008-434f-b233-1a9d32c4b439
SUMMARY:Pasta-Montag
DTSTART:20260831T130000Z
DTEND:20260831T170000Z
CATEGORIES:Bar/Cafe\,Anarchismus
DESCRIPTION:Jeden Montag in Kuna gibt es Pasta mit Sauce.\n\nImmer vegan\,
  immer auf Spendenbasis!\n\nab 15 Uhr geöffnet\nab 17 Uhr Pasta 
LOCATION:Kuna\, Schauenburgstr. 5\, 76135 Karlsruhe
GEO:48.9890192;8.3718512
ORGANIZER:mailto:Kuna
END:VEVENT
BEGIN:VEVENT
UID:59ddae6d-24f6-4d27-9e29-7f05198855b9
URL:https://karlsunruh.org/event/59ddae6d-24f6-4d27-9e29-7f05198855b9
SUMMARY:KüfA – Küche für Alle
DTSTART:20260901T150000Z
DTEND:20260901T200000Z
CATEGORIES:Bar/Cafe\,Sonstiges
DESCRIPTION:Jeden Dienstag gibt's KüfA im Kuna!\n\nKüche für Alle –
  immer vegan\, immer auf Spendenbasis!\n\nab 17 Uhr Schnibbeln\nab 19 Uhr
  Mampfen\n\nEinfach vorbeikommen\, mitkochen oder mitfuttern! Bringt eure
  Freund*innen\, Nachbar*innen\, Hausspinnen oder befreundeten
  Schrankwände mit.\n\njeden 1. Dienstag im Monat von den Kohlrabis\njeden
  2. Dienstag im Monat von den KüchenschAben\njeden 3. Dienstag im Monat
  von Weiche Kanten
LOCATION:Kuna\, Schauenburgstr. 5\, 76135 Karlsruhe
GEO:48.9890192;8.3718512
ORGANIZER:mailto:Kuna
END:VEVENT
BEGIN:VEVENT
UID:c701e0d1-cf97-44ca-8fbe-c37b158d6e23
URL:https://karlsunruh.org/event/c701e0d1-cf97-44ca-8fbe-c37b158d6e23
SUMMARY:Pasta-Montag
DTSTART:20260907T130000Z
DTEND:20260907T170000Z
CATEGORIES:Bar/Cafe\,Anarchismus
DESCRIPTION:Jeden Montag in Kuna gibt es Pasta mit Sauce.\n\nImmer vegan\,
  immer auf Spendenbasis!\n\nab 15 Uhr geöffnet\nab 17 Uhr Pasta 
LOCATION:Kuna\, Schauenburgstr. 5\, 76135 Karlsruhe
GEO:48.9890192;8.3718512
ORGANIZER:mailto:Kuna
END:VEVENT
BEGIN:VEVENT
UID:e2a50755-a978-4586-a451-ef6df232e69f
URL:https://karlsunruh.org/event/e2a50755-a978-4586-a451-ef6df232e69f
SUMMARY:KüfA – Küche für Alle
DTSTART:20260908T150000Z
DTEND:20260908T200000Z
CATEGORIES:Bar/Cafe\,Sonstiges
DESCRIPTION:Jeden Dienstag gibt's KüfA im Kuna!\n\nKüche für Alle –
  immer vegan\, immer auf Spendenbasis!\n\nab 17 Uhr Schnibbeln\nab 19 Uhr
  Mampfen\n\nEinfach vorbeikommen\, mitkochen oder mitfuttern! Bringt eure
  Freund*innen\, Nachbar*innen\, Hausspinnen oder befreundeten
  Schrankwände mit.\n\njeden 1. Dienstag im Monat von den Kohlrabis\njeden
  2. Dienstag im Monat von den KüchenschAben\njeden 3. Dienstag im Monat
  von Weiche Kanten
LOCATION:Kuna\, Schauenburgstr. 5\, 76135 Karlsruhe
GEO:48.9890192;8.3718512
ORGANIZER:mailto:Kuna
END:VEVENT
BEGIN:VEVENT
UID:0952be52-6321-4922-ac15-f5b0445eca7c
URL:https://karlsunruh.org/event/0952be52-6321-4922-ac15-f5b0445eca7c
SUMMARY:Pasta-Montag
DTSTART:20260914T130000Z
DTEND:20260914T170000Z
CATEGORIES:Bar/Cafe\,Anarchismus
DESCRIPTION:Jeden Montag in Kuna gibt es Pasta mit Sauce.\n\nImmer vegan\,
  immer auf Spendenbasis!\n\nab 15 Uhr geöffnet\nab 17 Uhr Pasta 
LOCATION:Kuna\, Schauenburgstr. 5\, 76135 Karlsruhe
GEO:48.9890192;8.3718512
ORGANIZER:mailto:Kuna
END:VEVENT
BEGIN:VEVENT
UID:13e81db4-fe3e-4d64-a802-4f6809fee197
URL:https://karlsunruh.org/event/13e81db4-fe3e-4d64-a802-4f6809fee197
SUMMARY:KüfA – Küche für Alle
DTSTART:20260915T150000Z
DTEND:20260915T200000Z
CATEGORIES:Bar/Cafe\,Sonstiges
DESCRIPTION:Jeden Dienstag gibt's KüfA im Kuna!\n\nKüche für Alle –
  immer vegan\, immer auf Spendenbasis!\n\nab 17 Uhr Schnibbeln\nab 19 Uhr
  Mampfen\n\nEinfach vorbeikommen\, mitkochen oder mitfuttern! Bringt eure
  Freund*innen\, Nachbar*innen\, Hausspinnen oder befreundeten
  Schrankwände mit.\n\njeden 1. Dienstag im Monat von den Kohlrabis\njeden
  2. Dienstag im Monat von den KüchenschAben\njeden 3. Dienstag im Monat
  von Weiche Kanten
LOCATION:Kuna\, Schauenburgstr. 5\, 76135 Karlsruhe
GEO:48.9890192;8.3718512
ORGANIZER:mailto:Kuna
END:VEVENT
END:VCALENDAR
