BEGIN:VCALENDAR
VERSION:2.0
PRODID:karlsunruh.org
METHOD:REQUEST
BEGIN:VEVENT
UID:54d47b68-72f0-49f2-ad1b-e5bd3c028802
URL:https://karlsunruh.org/event/54d47b68-72f0-49f2-ad1b-e5bd3c028802
SUMMARY:Critical Mass Karlsruhe
DTSTART:20260424T160000Z
DTEND:20260424T183000Z
CATEGORIES:Treffen\,Mobilität
DESCRIPTION:Im März sind 158 Menschen im Rahmen der Critical Mass ganz
  spritkostenfrei durch die Stadt gefahren.\nFür den nächsten Termin am
  Freitag\, den 24. April\, werden noch deutlich mehr Menschen um 18 Uhr am
  Kronenplatz erwartet (200+).\nAuch wenn die Critical Mass in jedem Monat
  am letzten Freitag ihre Runden dreht\, macht es bei Sonne und wärmeren
  Temperaturen noch einmal mehr Spaß\,\nim großen Verband durch die Stadt
  zu radeln. Dabei soll durch die "kritische Masse" der Radverkehr sichtbar
  werden.\n \nDie ca. 17 km lange Tour führt über Mühlburg nach
  Knielingen und über die bei Berufspendlern beliebte Strecke nach
  Neureut.\nZwischen diesen beiden Stadtteilen pendelt laut der letzten
  Bürgerumfrage der Stadtverwaltung ein ungewöhnlich hoher Anteil mit dem
  Auto statt mit dem Fahrrad\,\nwenn man es mit anderen Verkehrsbeziehungen
  innerhalb der Stadtgrenze vergleicht.\nFür Autos gibt es bereits gute
  Straßen (B36) und es kommen weitere dazu\, aber die Radwege sind oft
  über Umwege geführt oder - wie in der Sudetenstraße - schlicht
  vergessen worden.\nDabei wäre eine gute Radinfrastruktur gerade in
  Zeiten steigender Spritkosten die Voraussetzung für viele\, das Auto
  stehen zu lassen und auf das Rad umzusteigen.\n \nAchtung: Ausnahmsweise
  führt die Route über eine Kraftfahrstraße (B36)!\n \nDie Critical Mass
  Karlsruhe fährt immer am letzten Freitag des Monats gegen 18 Uhr am
  Kronenplatz los zu einer Tour durch die Stadt\, um Radverkehr sichtbarer
  zu machen.\nDie Kidical Mass Familien-Fahrraddemo startet am Sonntag\, 3.
  Mai um 15 Uhr ebenfalls am Kronenplatz.\nInformationen dazu und auch zu
  anderen Veranstaltungen wie dem "Ride of Silence" sind auf www.cm-ka.de
  zu finden.\n \nStrecke: Kronenplatz\, Fritz-Erler-Straße\, Kriegsstraße
  bis Ritterstraße\, Karoline-Luise-Tunnel
  (Karlstor-Unterführung)\,\nKriegsstraße\, Reinhold-Frank-Straße\,
  Kaiserallee\, Rheinstraße\, Am Entenfang\, Lameystraße\,
  Rheinstraße\,\nRheinbrückenstraße\, Sudetenstraße\, Heckerstraße\,
  Herweghstraße\, Pionierstraße\, Sudetenstraße\, B 36 bis
  AS\nNeureut-Süd\, Welschneureter Straße\, Klammweg\, Am Wald\,
  Bocksdornweg\, Willy-Brandt-Allee\, Moltkestraße\,\nWörthstraße\,
  Stephanienstraße\, Reinhold-Frank-Straße\, Brauerstraße\, Platz der
  Menschenrechte\n \nDas Ende der Versammlung ist auf dem Platz der
  Menschenrechte zwischen Bundesanwaltschaft und Filmpalast am ZKM.\nDas
  Fahrradbüro ist anschließend geöffnet für eine inoffizielle "After
  Mass".\nLänge: 17\,6 km\n \nNavigation:\n
  \nhttps://brouter.de/brouter-web/#map=18/49.00050/8.38647/standard&lonlat
 s=8.409768\,49.007852\;8.378478\,49.010864\;8.366381\,49.011414\;8.354676\
 ,49.014678\;8.344555\,49.027363\;8.352658\,49.036431\;8.369675\,49.047157\
 ;8.395432\,49.030815\;8.397269\,49.014233\;8.390822\,49.011179\;8.38609\,4
 9.00106&nogos=8.424245\,48.99528\,67\;8.34496\,49.030752\,18&profile=car-e
 co
LOCATION:Critical Mass Karlsruhe\, Kronenplatz 22 Karlsruhe
GEO:49.0085838;8.4091911
ORGANIZER:mailto:Critical Mass Karlsruhe
END:VEVENT
BEGIN:VEVENT
UID:eb0bf281-3be6-40b9-b7ef-a2f95e2f7bcb
URL:https://karlsunruh.org/event/eb0bf281-3be6-40b9-b7ef-a2f95e2f7bcb
SUMMARY:Orga-Meeting Critical Mass Karlsruhe
DTSTART:20260504T163000Z
CATEGORIES:Treffen\,Mobilität
DESCRIPTION:Üblicherweise am ersten Montag des Monatgs trifft sich das
  Orga-Team der Critical Mass Karlsruhe im Fahrradbüro und online um die
  nächsten Verbandsfahrten zu planen und alles\, was sonst noch ansteht\,
  zu besprechen. Interessierte Menschen sind herzlich willkommen\, auch um
  einfach mal nur zuzuhören! Wir freuen uns aber auch immer über
  tatkräftige Unterstützung unseres doch recht kleinen Teams.
  \n\nOnline-Meeting-Link: https://meet.ffmuc.net/cm-karlsruhe-organisation
LOCATION:Critical Mass Karlsruhe\, Kronenplatz 22 Karlsruhe
GEO:49.0085838;8.4091911
ORGANIZER:mailto:Critical Mass Karlsruhe
END:VEVENT
BEGIN:VEVENT
UID:3fc13a1a-dfb2-4831-97a5-799d2b2a4877
URL:https://karlsunruh.org/event/3fc13a1a-dfb2-4831-97a5-799d2b2a4877
SUMMARY:Ride of Silence
DTSTART:20260520T163000Z
DTEND:20260520T173000Z
CATEGORIES:Demo/Kundgebung\,Mobilität
DESCRIPTION:Achtung: Start am Marktplatz!\n\nAnlässlich des weltweiten
  Aktionstags „Ride of Silence“ gedenkt eine schweigenden
  Fahrraddemonstrationen den im Straßenverkehr getöteten Radfahrenden.
  Treffpunkt ist um 18:30 Uhr auf dem Marktplatz in Karlsruhe.\n\nAm
  dritten Mittwoch im Mai findet der weltweite Aktionstag "Ride of Silence"
  in Erinnerung an Radfahrende statt\, die im Straßenverkehr getötet
  wurden. In Karlsruhe ruft der ADFC deswegen zur Teilnahme am hießigen
  Ride of Silence auf. Dazu fahren wir schweigend (und ohne Musik) –
  gerne in weiß gekleidet – als Fahrraddemonstration durch Karlsruhe.
  Unterwegs halten wir an Stellen an\, an denen Radfahrende im
  Straßenverkehr gestorben sind.\n\nAn manchen dieser Orte sind weiß
  lackierten Fahrräder als Mahnmale für die Verunglückten aufgestellt.
  Sie sollen auf die Gefahrenstellen aufmerksam machen und zur
  Rücksichtsnahme im Straßenverkehr aufrufen.\n\nStrecke:
  https://brouter.de/brouter-web/#map=18/49.00839/8.36854/standard&lonlats=
 8.403797\,49.00815\;8.403621\,49.006438\;8.368027\,49.008347\;8.368253\,49
 .005928&pois=8.367929\,49.008363\,Ghostbike%2C%20Zwischenkundgebung&nogos=
 8.424245\,48.99528\,67\;8.34496\,49.030752\,18&profile=car-eco\n\nWeitere
  Infos folgen!
LOCATION:Critical Mass Karlsruhe\, Kronenplatz 22 Karlsruhe
GEO:49.0085838;8.4091911
ORGANIZER:mailto:Critical Mass Karlsruhe
END:VEVENT
BEGIN:VEVENT
UID:f9e02af5-7166-464f-ae43-de1ef2b81c22
URL:https://karlsunruh.org/event/f9e02af5-7166-464f-ae43-de1ef2b81c22
SUMMARY:Zubringer zur ADFC-Sternfahrt in Stuttgart
DTSTART:20260621T053000Z
CATEGORIES:Sport/Bewegung\,Mobilität
DESCRIPTION:Am 21. Juni 2026 rollen wir gemeinsam nach Stuttgart: Mit
  tausenden Menschen aus ganz Baden-Württemberg radeln wir zum Karlsplatz
  – mitten in die Stadt\, mitten in der Debatte um die Mobilität der
  Zukunft. Denn: Die Zukunft fährt Rad!\n\nUnsere Botschaft ist klar:
  Radfahren muss für alle möglich\, sicher\, komfortabel und
  selbstverständlich sein!\n\nLetztes Jahr nahmen im September 5.400
  Menschen an der Radsternfahrt nach Stuttgart teil – ein großer Erfolg
  für das Radfahren in Baden-Württemberg. Bei trockenem und warmem Wetter
  fand die Sternfahrt regen Zuspruch aus allen Himmelsrichtungen. Klein und
  Groß\, Jung und Alt radelten nach Stuttgart – auch Politiker*innen wie
  Cem Özdemir und Verkehrsminister Winfried Hermann waren mit dem Fahrrad
  dabei. Sogar aus Freiburg\, Karlsruhe\, Heidelberg oder Schwäbisch
  Gmünd kamen Unterstützer*innen nach Stuttgart. Auf 12
  polizeibegleiteten Strecken ging die Demo über die autofreien
  Bundesstraßen B10 und B14 bis zum Schlossplatz – endlich gab es mal
  richtig viel Platz fürs Fahrrad!\n\nEin Tag\, der bewegt und
  verbindet\n\nDie Sternfahrt ist ein Fest auf zwei Rädern – bunt\,
  laut\, fröhlich und voller Energie. Egal ob jung oder alt\, sportlich
  oder gemütlich: Alle sind willkommen und können mitfahren!\n\nSo sieht
  es heute noch aus: Tag für Tag müssen wir uns die wenigen
  Fahrradstraßen mit Autofahrenden teilen. Große Straßen sind dagegen
  dem Autoverkehr vorbehalten. Aber einmal im Jahr demonstrieren wir genau
  dort für mehr Platz für uns Radfahrende. Wir erleben\, wie unsere
  Mobilität aussehen könnte\, wenn sie sich an den Menschen orientiert
  – und nicht nur am Auto.\n\nGemeinsam auf der Sternfahrt sind wir
  sicher\, entspannt und selbstbewusst auf komfortablen Straßen unterwegs.
  So viel Spaß kann Radfahren machen – und so soll es überall werden\,
  365 Tage im Jahr!\n\nViele Treffpunkte auf Routen aus allen
  Himmelsrichtungen mit rund 400 Kilometern führen auch bei Dir vorbei.
  Mehrere Zubringer erweitern die Sternfahrt.\n\n-----\n\nStart sportlicher
  Zubringer um 7:45 am Kronenplatz. Bitte Mitbringen: Gute Kondition für
  einige Höhenmeter mit ca. 20 km/h Durchschnittsgeschwindigkeit. Sowie
  Getränke und Proviant für unterwegs.\n\nWir machen um 9:45 Station in
  Pforzheim und schließen uns gegen 11:30 dem angemeldeten Zubringer in
  Weil der Stadt an.\n
LOCATION:Critical Mass Karlsruhe\, Kronenplatz 22 Karlsruhe
GEO:49.0085838;8.4091911
ORGANIZER:mailto:Critical Mass Karlsruhe
END:VEVENT
END:VCALENDAR
