BEGIN:VCALENDAR
VERSION:2.0
PRODID:karlsunruh.org
METHOD:REQUEST
BEGIN:VEVENT
UID:ee06ee80-9712-44cb-aac3-3e401377e3a9
URL:https://karlsunruh.org/event/ee06ee80-9712-44cb-aac3-3e401377e3a9
SUMMARY:Sommerfest 2026
DTSTART:20260620T140000Z
CATEGORIES:Party\,Kultur
DESCRIPTION:Leute! Wir machen wie jedes Jahr Sommerfest! \n\nInfos
  folgen!\n\nTragts euch in eure Kalender ein!\n\nWir freuen uns auf euch!
LOCATION:Wagenplatz Haid und Neu Straße\, S Bahn Halt Sinsheimer Straße
ORGANIZER:mailto:Wagenplatz 
END:VEVENT
END:VCALENDAR
