BEGIN:VCALENDAR
VERSION:2.0
PRODID:karlsunruh.org
METHOD:REQUEST
BEGIN:VEVENT
UID:e6253d4e-9c39-4629-a825-5b14a8518122
URL:https://karlsunruh.org/event/e6253d4e-9c39-4629-a825-5b14a8518122
SUMMARY:Brunchen im Barrio
DTSTART:20260207T090000Z
DTEND:20260207T113000Z
CATEGORIES:Treffen\,Sonstiges
DESCRIPTION:07.02. 10:00 Uhr Brunchen im Barrio\, danach 12:00
  Vortreffpunkt  für die Kurdistan Demo um 13:00 auf dem Marktplatz
LOCATION:Barrio 137\, Luisenstraße 31\, 76137 Karlsruhe
GEO:49.00084565;8.405520455565298
ORGANIZER:mailto:OAT Karlsruhe
END:VEVENT
END:VCALENDAR
