BEGIN:VCALENDAR
VERSION:2.0
PRODID:karlsunruh.org
METHOD:REQUEST
BEGIN:VEVENT
UID:dc82acd5-a56f-49f6-b0cb-4dd0cf5d6ae4
URL:https://karlsunruh.org/event/dc82acd5-a56f-49f6-b0cb-4dd0cf5d6ae4
SUMMARY:Gruppentreffen DFG-VK Karlsruhe
DTSTART:20260226T173000Z
DTEND:20260226T190000Z
CATEGORIES:Diskussion\,Sonstiges
DESCRIPTION:Offenes Treffen der DFG-VK Karlsruhe für alle an
  pazifistischen Themen interessierte Menschen. Austausch über aktuelle
  Themen und Planung unserer nächsten Veranstaltungen. Das Treffen findet
  meist am vierten Donnerstag im Monat statt. Aktuelle Termine und weitere
  Infos auf der Homepage der DFG-VK
  Karlsruhe:\nhttps://karlsruhe.dfg-vk.de/\n
LOCATION:Umweltzentrum Karlsruhe\, Kronenstr. 6\, 76133 Karlsruhe
ORGANIZER:mailto:DFG-VK Karlsruhe
END:VEVENT
END:VCALENDAR
