BEGIN:VCALENDAR
VERSION:2.0
PRODID:karlsunruh.org
METHOD:REQUEST
BEGIN:VEVENT
UID:c63539b7-84f9-4728-93dd-b336a4abb043
URL:https://karlsunruh.org/event/c63539b7-84f9-4728-93dd-b336a4abb043
SUMMARY:SACRED REICH -No Truth\, No Justice 2026- // support: Aquilla
DTSTART:20260820T170000Z
DTEND:20260820T190000Z
CATEGORIES:Konzert\,Kultur
DESCRIPTION:Seit 1985 gehen 𝗦𝗔𝗖𝗥𝗘𝗗 𝗥𝗘𝗜𝗖𝗛
  ihren eigenen Weg und kombinieren Thrash Metal mit einer sozialkritischen
  und politischen Attitüde.\nMit dem Erfolg ihres letzten Albums Awakening
  im Rücken kommen die US-Thrasher Sacred Reich auf die P8 Bühne–
  lauter\, wütender und politischer denn je.\nSacred Reich\, die
  amerikanische Thrash-Metal-Band mit einer Vorliebe für politische
  Texte\, Politik und satirischen Humor\, gepaart mit einem kompromisslosen
  Sound\, war Ende der 1980er Jahre maßgeblich an der zweiten Welle der
  Thrash-Metal-Bewegung beteiligt. Die Band aus Phoenix\, Arizona\,
  veröffentlichte eine Reihe von Alben wie Ignorance (1987)\, The American
  Way (1990)\, Independent (1993) und Heal (1996)\, bevor sie sich im Jahr
  2000 auflöste. Anfang 2018 gab die Band bekannt\, an neuer Musik zu
  arbeiten\, was 2019 zur Veröffentlichung ihres lang erwarteten fünften
  Albums Awakening führte. \n𝗔𝗾𝘂𝗶𝗹𝗹𝗮 is classic heavy
  metal quintet established in 2015 in the capital city of Poland –
  Warsaw. They pay a great attention to putting out consistent\,
  oldschool\, and energetic live shows with strong emphasis on costumes\,
  stage props\, and sci-fi themes. Inspired by both the greatest titans and
  newcomer vanguards of the genre. A futuristic mixture of classic heavy
  and speed metal with a touch of power and synth elements. \nDoors: 19.00
  // Show: 20.00\n
LOCATION:p8\, Schauenburgstraße 5\, 76135 Karlsruhe
GEO:48.9887950677221;8.372030230380888
ORGANIZER:mailto:p8
END:VEVENT
END:VCALENDAR
