BEGIN:VCALENDAR
VERSION:2.0
PRODID:karlsunruh.org
METHOD:REQUEST
BEGIN:VEVENT
UID:b5211151-e60d-4375-ab58-b8a1167a7dda
URL:https://karlsunruh.org/event/b5211151-e60d-4375-ab58-b8a1167a7dda
SUMMARY:Togoland Projektionen
DTSTART:20260329T140000Z
DTEND:20260329T160000Z
CATEGORIES:Film\,Sonstiges
DESCRIPTION:Stummfilm-Pionier und „Afrikaforscher“ Hans Schomburgk
  drehte um 1910 in der einstigen deutschen „Musterkolonie“ Togo
  kitschige\, vom kolonialen Blick geprägte Abenteuer- und
  Dokumentarfilme. Mehr als 100 Jahre später begibt sich Regisseur Jürgen
  Ellinghaus mit einem mobilen Kino an die Originaldrehorte der Filme\, um
  zusammen mit den togolesischen Zuschauer:innen den historischen Kontext
  der Filmbilder und die Auswirkungen des Kolonialismus zu
  ergründen.\nDiskutieren Sie im Anschluss an den Film mit:Nora
  Häuserkarlsruhe-postkolonial.de\nMohamede Charife GarbaAbsolvent
  Politikwissenschaft undinternationale
  Zusammenarbeit\,kolonialgeschichtema.com\nEine Veranstalltung im Rahmen
  der Wochen gegen Rassismus\nIn Kooperation mit\nNaturfreunde
  Karlsruhehttps://www.naturfreunde.de\nFreunde für
  Fremdehttps://freunde-fuer-fremde.de/\nIBZhttps://www.ibz-karlsruhe.de/\n
 \nhttps://kinemathek-karlsruhe.de/film/togoland-projektionen/
LOCATION:Kinemathek\, Kaiserpassage 6 76133 Karlsruhe
GEO:49.010608500000004;8.396970535255974
ORGANIZER:mailto:Kinemathek
END:VEVENT
END:VCALENDAR
