BEGIN:VCALENDAR
VERSION:2.0
PRODID:karlsunruh.org
METHOD:REQUEST
BEGIN:VEVENT
UID:b16a6e45-c3e8-4510-8a8a-26eb10acf47b
URL:https://karlsunruh.org/event/b16a6e45-c3e8-4510-8a8a-26eb10acf47b
SUMMARY:From Doom to Hallucinations: Why Graphics Processors are (Ab)Used
  Outside of Games
DTSTART:20260214T190000Z
CATEGORIES:Vortrag\,Sonstiges
DESCRIPTION:Was als simpler 2D-Beschleuniger für Schriften und
  Sidescroller begann\, sind heute Monsterchips mit mehreren Milliarden
  Transistoren und genereller Programmierbarkeit geworden. Aber wie kam es
  eigentlich dazu? Und warum werden Grafikkarten heute überall und nicht
  nur in Videospielen eingesetzt\, und wie verändern die neuen
  Einsatzgebiete die Hardwarearchitektur von GPUs?\n\nMehr über unser
  Open-Sessions Format findet ihr hier: https://entropia.de/Open_Sessions
LOCATION:Gewerbehof\, Steinstraße 23 \,76133 Karlsruhe
GEO:49.006649;8.4073768
ORGANIZER:mailto:Entropia e.V.
END:VEVENT
END:VCALENDAR
