BEGIN:VCALENDAR
VERSION:2.0
PRODID:karlsunruh.org
METHOD:REQUEST
BEGIN:VEVENT
UID:af17fe38-53ae-4747-938b-83745c82b583
URL:https://karlsunruh.org/event/af17fe38-53ae-4747-938b-83745c82b583
SUMMARY:toplap x entropia x haecksen presents Algorithmic Listening Party
DTSTART:20260430T160000Z
DTEND:20260430T210000Z
CATEGORIES:Workshop\,Kultur
DESCRIPTION:18:00–19:30 Algorithmic patterns - listening workshop  –
  Alex McLean & Lucy Cheesman\n\nPeople have danced to algorithms
  throughout history\, including the Ancient Greeks. Epiploke is such an
  algorithm\, evident in fragments of Ancient Greek texts\, where metrical
  short-long structure is shifted in patterns. \nAlgorithmic Listening
  Party\nFriday 30. April 2026\nEntropia e.V.\nSteinstraße 23\, 76133
  Karlsruhe\ntoplap x entropia x haecksen presents\n\nIn this workshop run
  by Lucy and Alex who perform together as the band Epiploke\, we will
  explore different musical patterns by listening to and manipulating
  simple code examples in the free\, web-based Strudel software. This will
  include polymetrical structures\, euclidian rhythms\, South Indian
  konnakol and bharatanatyam rhythms\, ancient greek hexameters\, and other
  strange patterns. The aim will be to understand algorithmic music with a
  focus on listening to patterns rather than understanding them as
  code. \n\nThe workshop is aimed at anyone curious about the stranger
  side of musical patterns. You do not need any experience in music or
  coding\, and people who feel like 'imposters' are especially welcomed to
  join. If you are new to live coding you will hopefully leave motivated to
  learn more. If you have live coded before you will hopefully leave with
  new understanding of your practice.  \n\n20:00–23:00 listening
  party\n\n20:00 grainn\n20:20 bharatanatyam: yaxu & Janani Suresh
  Ram\n21:50 elmo\n22:20 Epiploke\n22:50 ravioli: pastagang\n22:20 hang out
  and wrap up
LOCATION:Gewerbehof\, Steinstraße 23 \,76133 Karlsruhe
GEO:49.006649;8.4073768
ORGANIZER:mailto:Entropia e.V.,TOPLAP,Haecksen Karlsruhe
END:VEVENT
END:VCALENDAR
