BEGIN:VCALENDAR
VERSION:2.0
PRODID:karlsunruh.org
METHOD:REQUEST
BEGIN:VEVENT
UID:a99a807b-17a0-432c-babe-b318cf877774
URL:https://karlsunruh.org/event/a99a807b-17a0-432c-babe-b318cf877774
SUMMARY:Fest der Menschenrechte
DTSTART:20251209T170000Z
DTEND:20251209T200000Z
CATEGORIES:Sonstiges\,Solidarität
DESCRIPTION:Musik\, Begegnungen\, Information\, politischer Austausch und
  internationales Buffet\, musikalischer Gast: For Future Band
  (Freiburg)\n\nEine Vielzahl in Karlsruhe engagierter
  Menschenrechtsgruppen informieren über ihre Arbeit und ihre Themen.
  Neben Info-Ständen und Kurz-Statements zu ausgewählten
  Menschenrechtsthemen\, wie beispielsweise der Lage im Iran oder dem Recht
  auf Kriegsdienstverweigerung\, wird es an Gesprächstischen die
  Möglichkeit geben\, in vertiefteren Austausch zu gehen. Ein
  internationales Buffet sorgt für das leibliche Wohl der Besuchenden.
  \n\nVeranstalter ist ein breites Bündnis Karlsruher
  Menschenrechts-Organisationen sowie das Kulturzentrum TOLLHAUS.\n\nDie
  For Future Band Freiburg ist eine Gruppe junger Musiker*innen\, die eine
  bestimmte Leidenschaft teilen: das Erschaffen von Musik\, die groovt und
  die gleichzeitig Menschen für die Themen und Ziele der For Future
  Bewegungen begeistert. Das Thema Klimawandel kennt keine Ländergrenzen
  und betrifft alle Kulturen weltweit\, was die Band durch ihre
  Interpretationen diverser Stile zum Ausdruck bringen will.
LOCATION:Tollhaus
GEO:49.0044252;8.4317094
ORGANIZER:mailto:Bündnis Karlsruher Menschenrechts-Organisationen,Tollhaus
END:VEVENT
END:VCALENDAR
