BEGIN:VCALENDAR
VERSION:2.0
PRODID:karlsunruh.org
METHOD:REQUEST
BEGIN:VEVENT
UID:a50b4da8-5cd1-469e-aa98-7bcb068772a5
URL:https://karlsunruh.org/event/a50b4da8-5cd1-469e-aa98-7bcb068772a5
SUMMARY:Kritik am Islamismus aus sozialrevolutionärer Perspektive
DTSTART:20260411T163000Z
CATEGORIES:Vortrag\,Antifaschismus
DESCRIPTION:Der Islamismus ist ohne Frage eines der zentralen Themen der
  Gegenwart. Die journalistische und wissenschaftliche Flut an
  Interpretationen und Theorien ist kaum noch zu überschauen\, lediglich
  brauchbare materialistische Analysen tauchen wenn überhaupt nur
  vereinzelt auf. Dies führt\, auch unter Linken\, nicht selten zu
  katastrophalen politischen Einschätzungen: Für die einen sind zumindest
  bestimmte islamistische Gruppierungen Ausdruck eines berechtigten
  antiimperialistischen Widerstandes\, andere wiederum wollen dem
  Islamismus im Schulterschluss mit Staat und Militär mit „westlichen
  Werten“ entgegentreten. Beides ist unserer Ansicht nach verfehlt. Darum
  haben wir den Versuch unternommen\, uns dem Phänomen mit einigen Thesen
  über die materiellen und historischen Grundlagen des Islamismus sowie zu
  den daraus resultierenden politischen Konsequenzen anzunähern.
LOCATION:p8\, Schauenburgstraße 5\, 76135 Karlsruhe
GEO:48.9887950677221;8.372030230380888
ORGANIZER:mailto:What´s Left...?
END:VEVENT
END:VCALENDAR
