BEGIN:VCALENDAR
VERSION:2.0
PRODID:karlsunruh.org
METHOD:REQUEST
BEGIN:VEVENT
UID:a05d0e21-e384-4fa5-8010-33fefc67a581
URL:https://karlsunruh.org/event/a05d0e21-e384-4fa5-8010-33fefc67a581
SUMMARY:Zine-issage
DTSTART:20251213T120000Z
DTEND:20251213T133000Z
CATEGORIES:DIY\,Queerfeminismus
DESCRIPTION:✨ Zine-issage – Abschluss unserer queerfeministischen
  Zine-Ausstellung! ✨\n\nAm Samstag\, 13.12.\, von 13:00–14:30 Uhr
  feiern wir gemeinsam den Abschluss unserer Ausstellung – mit einem
  Vortrag zum Thema Geschichte der Zines als Akt politischer
  Selbstermächtigung und einer offenen Tauschbörse für eure Zines.\n\nIn
  den letzten Wochen ist die Ausstellung dank euch richtig gewachsen und
  unser Mitmachbereich ist voll mit euren kreativen Werken. Bei der
  Zine-issage könnt ihr eure Zines tauschen\, verschenken und andere
  Zine-Macher*innen kennenlernen. Nach dem Prinzip „take a zine\, leave a
  zine“: Bring eine Kopie deines Zines mit und nimm ein anderes dafür
  mit nach Hause! 🤝\n\n📌 Was? Vortrag & Zine-Tauschbörse\n\n⏰
  Wann? Samstag\, 13.12.\, 13:00–14:30 Uhr\n\n📍 Wo? Foyer der
  Stadtbibliothek Karlsruhe\, Ständehausstraße 2\, 76133 Karlsruhe
  (barrierearm\, Erdgeschoss)\n\nWir freuen uns auf euch! Wenn ihr nicht
  dabei sein könnt\, dann schaut doch noch vorher bei der Ausstellung
  vorbei :) 💛📚\n\n✨ Zine-issage – Closing Event of Our
  Queer-Feminist Zine Exhibition! ✨\n\nOn Saturday\, December 13\, from
  1:00–2:30 PM\, we’ll celebrate the closing of our exhibition together
  – featuring a talk on the history of zines as an act of political
  self-empowerment and an open swap market for your own zines.\n\nOver the
  past weeks\, the exhibition has really grown thanks to you\, and our
  participation area is now filled with your creative works. At the
  Zine-issage you can swap your zines\, give them away\, and meet other
  zine makers. Following the principle “take a zine\, leave a zine”:
  Bring a copy of your zine and take another one home! 🤝\n\n📌 What?
  Talk & Zine Swap\n⏰ When? Saturday\, December 13\, 1:00–2:30 PM\n📍
  Where? Foyer of the Stadtbibliothek Karlsruhe\, Ständehausstraße 2\,
  76133 Karlsruhe (accessible\, ground floor)\n\nWe’re looking forward to
  seeing you! And if you can’t make it to the event\, feel free to stop
  by the exhibition beforehand :) 💛📚\n
LOCATION:Foyer der Stadtbibliothek Karlsruhe\, Ständehausstraße 2\, 76133
  Karlsruhe
ORGANIZER:mailto:Weiche Kanten
END:VEVENT
END:VCALENDAR
