BEGIN:VCALENDAR
VERSION:2.0
PRODID:karlsunruh.org
METHOD:REQUEST
BEGIN:VEVENT
UID:8c4deb95-a213-4ebc-a914-09ac02ffa47e
URL:https://karlsunruh.org/event/8c4deb95-a213-4ebc-a914-09ac02ffa47e
SUMMARY:Ich bin ich – Ich bin mehr als meine Diagnose
DTSTART:20260329T170000Z
DTEND:20260329T190000Z
CATEGORIES:Film\,Sonstiges
DESCRIPTION:Viele Menschen\, die psychisch erkrankt sind\, fühlen sich
  von der Gesellschaft abgestempelt\, auf ihre Diagnose reduziert. Es gibt
  aber auch Menschen\, die sich selbst stigmatisieren und sich schämen\,
  dass sie erkrankt sind. Der neue Film der Filmemacherin Andrea Rothenburg
  lässt krisenerfahrene Menschen zu Wort kommen\, die sich nicht auf ihre
  Diagnose reduzieren lassen.\n„Wundern Sie sich nicht\, dass andere
  Menschen psychisch erkrankt sind\, wundern Sie sich\, dass Sie gesund
  sind.“ Mit diesem Zitat\, von dem ehemaligen Chefarzt Dr. med.
  Ernstjürgen Rothenburg\, startet der Film. Die Filmemacherin Andrea
  Rothenburg hat die Worte ihres Vaters gewählt\, um ein deutliches
  Zeichen zu setzen: „Ich erlebe immer wieder\, dass nicht selten
  scheinbar Gesunde\, Menschen in psychischen Krisen diskriminieren\,
  anstatt sie zu unterstützen und dankbar zu sein\, dass sie selbst nicht
  erkrankt sind. Immerhin kann jeder erkranken und niemand sucht es sich
  aus.“\nFast jeder dritte Mensch leidet im Laufe seines Lebens an einer
  behandlungsbedürftigen psychischen Erkrankung. Depressionen\,
  Borderline\, bipolare Störungen\, ADHS\, Trauma\, Zwänge\, Ängste\,
  Süchte\, Schizophrenie\, Psychosen usw. Die Liste der psychiatrischen
  Störungen ist lang. In dem neuen Film werden sie in den Fokus
  gerückt. Insgesamt stehen 50 Menschen\, Erfahrene\, Angehörige und
  Fachleute\, vor der Kamera. Auch krisenerfahrene Psychiater zeigen
  Gesicht.\n\nhttps://kinemathek-karlsruhe.de/film/ich-bin-ich/
LOCATION:Kinemathek\, Kaiserpassage 6 76133 Karlsruhe
GEO:49.010608500000004;8.396970535255974
ORGANIZER:mailto:Kinemathek
END:VEVENT
END:VCALENDAR
