BEGIN:VCALENDAR
VERSION:2.0
PRODID:karlsunruh.org
METHOD:REQUEST
BEGIN:VEVENT
UID:8904dc28-5d9d-4f2d-aab1-4f502ae9481b
URL:https://karlsunruh.org/event/8904dc28-5d9d-4f2d-aab1-4f502ae9481b
SUMMARY:13.12 Barabend Wagenplatz
DTSTART:20251213T183000Z
CATEGORIES:Bar/Cafe\,Kultur
DESCRIPTION:Getränke warm und kalt\, Feuer\, kickern\, Musik und liebe
  Leute
LOCATION:Wagenburg\, Haid- und Neu- Straße 153\, Karlsruhe
GEO:49.0232189;8.4468708
ORGANIZER:mailto:Wagenburg
END:VEVENT
END:VCALENDAR
