BEGIN:VCALENDAR
VERSION:2.0
PRODID:karlsunruh.org
METHOD:REQUEST
BEGIN:VEVENT
UID:745d4b49-3a07-48df-8540-c4993d704ae3
URL:https://karlsunruh.org/event/745d4b49-3a07-48df-8540-c4993d704ae3
SUMMARY:nach der Revolte – Lesung mit Penny Prinz
DTSTART:20260522T170000Z
CATEGORIES:Vortrag\,Repression
DESCRIPTION:Hongkong 2024: Eine Buchhändlerin\, die nicht mehr weiß\,
  welche Bücher sie noch verkaufen darf. Eine Dozentin\, die nicht
  denunziert werden will. Ein Gesetz\, so vage\, dass jeder damit gemeint
  sein könnte\, ein intelligenter Laternenpfahl\, und ein anarchistisches
  Café\, das den Zuständen trotzt. Dieser Reisebericht beschreibt den
  Alltag in einer Stadt\, in der die nationale Sicherheit die Freiheit
  ersetzt hat. Er erzählt von Überwachung\, Repression und Widerstand -
  und einem Modus digitaler Herrschaft\, der nicht nur in Hongkong Gestalt
  annimmt.\n\nPenny Prinz arbeitet als freie Referentin für digitale
  Selbstverteidigung und am Lehrstuhl für Recht und Digitales ihrer
  Universität. Sie ist Mitgründerin der Kollektive Skills for Utopia und
  @all und schreibt nebenher zu netzpolitischen Entwicklungen. Zuletzt zu
  biometrischer Überwachung durch die Polizei (erscheint bei
  Digitalcourage e.V.). Ihre Lieblingsthemen sind Überwachung\,
  Repression\, und ein Leben jenseits des Kapitalismus.\n\nEine
  Veranstaltung in Zusammenarbeit mit Bündnis 90/Die Grünen OV
  Karlsruhe-Nordstadt.\n\nEintritt frei!
LOCATION:Kulturhaus Mikado\, Kanalweg 52\, 76149 Karlsruhe
GEO:49.0330246;8.3922699
ORGANIZER:mailto:Grüne Karlsruhe Ortsverband Nordstadt
END:VEVENT
END:VCALENDAR
