BEGIN:VCALENDAR
VERSION:2.0
PRODID:karlsunruh.org
METHOD:REQUEST
BEGIN:VEVENT
UID:7254820a-c026-45f2-81b6-494f11210f98
URL:https://karlsunruh.org/event/7254820a-c026-45f2-81b6-494f11210f98
SUMMARY:Gulaschprogrammiernacht GPN23: Hidden Patterns
DTSTART:20250619T140000Z
DTEND:20250622T140000Z
CATEGORIES:Sonstiges\,Sonstiges
DESCRIPTION:Die GPN23 wird vom 19.06 bis 22.06.2025 stattfinden. Vier Tage
  lang erwarten euch Hacken\, Gulasch\, Vorträge\, Tschunk\, Workshops\,
  Lounge\, Mate und Spaß am Gerät.\n\nDas genaue Programm findet ihr
  hier: https://cfp.gulas.ch/gpn23/schedule/\n\n"Gulaschprogrammiernacht"
  klingt fast wie ein Kochmarathon für schlaflose Informatikstudierende.
  Was 2002 in einem Karlsruher Kellerraum mit ein paar Technikbegeisterten
  angefangen hat\, ist inzwischen zu einer der größten Veranstaltungen
  des Chaos Computer Clubs gewachsen. Die Themen sind breit gefächert: Den
  Kern bilden Hard- und Softwareentwicklung\, sowie Datensicherheit.
  Daneben kommen aber auch Datenschutz\, Netzpolitik und viele andere
  faszinierende Themen zum Zug: Wie kocht man das perfekte Gulasch? Kann
  man aus Hardwareschrott noch schönen Schmuck basteln? Wie funktioniert
  eigentlich eine Nähmaschine? Wie fliegt man Raumschiffe?\n\nDie
  Gulaschprogrammiernacht wird vom Entropia e. V. des lokalen Chaos
  Computer Club in Karlsruhe veranstaltet. In den Lichthöfen der
  Hochschule für Gestaltung (HfG) und den Vortragssälen des Zentrum für
  Kunst und Medien (ZKM) werden mehr als 1500 Besucher erwartet. Wichtig
  ist\, dass trotz der inhaltlichen Tiefe\, in die manche Vortragende
  eintauchen\, die Gulaschprogrammiernacht sich nicht nur an die »Digital
  Natives« oder Nerds richtet. Alle sind willkommen und können etwas
  lernen\, es gilt das alte Motto »uns gefällt alles«.\n\nDem Namen
  getreu ist das Programmieren selbstverständlich die Hauptsache auf einer
  GPN. In den Lichthöfen stehen dazu im »Hackcenter« Tische mit Strom-
  und Netzwerkanschluss bereit\, an denen die Gäste ihre Zelte aufschlagen
  können. Ein großer Teil reist mit einem Projekt an\, um auf der
  Gulaschprogrammiernacht ein paar fokussierte Tage und gegebenenfalls auch
  Nächte damit zu verbringen. Das heißt nicht\, dass Fragen verboten
  sind. Im Gegenteil: Die meisten Hackenden\, wenn sie nicht gerade in
  tiefster Programmiermeditation versunken sind\, geben gerne Auskunft
  über ihr Steckenpferd. Auch gerade Fertiggewordenes wird gerne
  vorgeführt\, und so wimmelt es auf der Gulaschprogrammiernacht von
  selbstgebauten Lichtinstallationen und Gerätschaften.\n\nDer zweite
  Hauptbestandteil einer Gulaschprogrammiernacht - neben den Aktivitäten
  im Hackcenter - ist das Workshop- und Vortragsprogramm. Von tief in die
  Materie gehenden Vorträgen aus Hard- und Softwareentwicklung über
  lehrreiche (und humorvolle) Anekdoten aus dem alltäglichen
  Programmierwahnsinn bis zu netzpolitischen Debatten ist alles vertreten.
  Bei Löt- und Bastelworkshops können Elektronik-Skills aufgelevelt
  werden\, Lightning Talks bieten eine offene Bühne für spontane
  Kurzvorträge\, und auch die Demoszene erfreut sich stets großer
  Beliebtheit.\n\nUnser diesjähriges Motto ist "Hidden Patterns".\n\nHabt
  ihr bereits die versteckten Patterns entdeckt? Wir beim Schreiben auch
  nicht. Und dennoch: In großen Datenmengen verbergen sich oft
  faszinierende Strukturen\, die darauf warten\, enthüllt zu werden. Es
  ist an der Zeit\, diese Patterns zu entschlüsseln und die Geschichten zu
  verstehen\, die sie erzählen.\nAn der GPN teilnehmen\n\nIhr habt es
  sicher auch gemerkt\, in den letzten Jahren wurde es immer voller.
  Deswegen müssen wir nach Absprache mit unseren Gastgebern leider die
  Anzahl der Teilnehmenden für die Veranstaltung limitieren. Wenn ihr an
  allen Tagen der GPN garantiert teilnehmen möchtet\, müsst ihr euch
  vorher anmelden. Für kurzfristig Entschlossene oder neugierige
  Tagesbesuche gibt es ein kleines Kontingent an kostenfreien
  Tagespässen\, die vor Ort abgeholt werden können. Somit wird\, im
  Gegensatz zu den bisherigen GPNs\, die Anmeldung verpflichtend\, wenn ihr
  euch nicht auf die Verfügbarkeit von Tagespässen verlassen
  möchtet.\n\nEs geht dabei nur um den Zugang zu den Gebäuden\, die
  Außenfläche könnt ihr auch ohne Anmeldung nutzen.\n\nBei der Anmeldung
  könnt ihr weiterhin wie gewohnt T-Shirts\, Tassen\, usw. reservieren. Ab
  diesem Jahr könnt ihr während eurer Anmeldung
  spenden.\nGulasch-Genusspaket\n\nWir müssen die Zahl der Teilnehmenden
  begrenzen\, da wir an unsere räumlichen Grenzen stoßen. Wir wollen
  keinen Eintritt verlangen\, aber gleichzeitig sicherstellen\, dass
  Reservierungen auch wahrgenommen oder rechtzeitig abgesagt werden - damit
  jeder Platz effektiv genutzt werden kann. Deswegen ist ab diesem Jahr die
  Anmeldung mit dem Kauf eines Gulasch-Genusspaketes für 10€ verknüpft
  und beinhaltet ein warmes Hauptgericht von unserer fantastischen
  Küchencrew sowie ein nicht-alkoholisches Getränk an unserer Bar.
  Alternativ können anstatt dem warmen Hauptgericht auch drei Waffeln
  gewählt werden.\n\nDas Paket soll euch motivieren\, eure Anmeldung zu
  stornieren und den Platz für jemand anderes frei zu machen\, solltet ihr
  nicht teilnehmen können. Bei einer Stornierung bis zum
  Veranstaltungsbeginn wird euch das Paket voll erstattet. Bitte seid also
  fair bei der Anmeldung und meldet euch nur an\, wenn ihr auch wirklich
  kommt.\n\nDie Verknüpfung der Anmeldung mit dem Gulasch-Genusspaket ist
  kein Eintritt und ersetzt auch nicht eure Spenden\, auf die wir weiterhin
  angewiesen sind.\n\nFalls du an der 23. Gulaschprogrammiernacht
  teilnehmen möchtest\, aber kein Gulasch-Genusspaket erwerben kannst\,
  melde dich bitte unter friends@gulas.ch. Falls deine Einreichung im CfP
  angenommen wird\, ist deine Anmeldung garantiert.\n\nTermine mit
  freigeschaltetem Kontingent zum Anmelden hast du leider verpasst\, diese
  waren:\n\n    am Sonntag\, den 27.04.\, 20:00 Uhr und\n    am
  Donnerstag\, den 01.05.\, 14:00 Uhr\n\njeweils auf
  https://join.gulas.ch/.\n\nEs gibt aber eine Chance\, noch eine Anmeldung
  mit Gulasch-Genusspaket für alle Tage zu bekommen:\n\nAb der 02.05.
  gegen 18:00 Uhr wird eine Warteliste auf https://join.gulas.ch/
  aktiviert. Das ganze funktioniert wie folgt: Sobald ein "Slot" frei ist\,
  bekommt der älteste Wartelistenplatz eine E-Mail mit einem Voucher\, und
  hat 18 Stunden Zeit\, diesen einzulösen. Wurde der Voucher nicht
  eingelöst\, geht es an den nächsten Wartelistenplatz usw. Wichtig: Ein
  Eintrag in der Warteliste bedeutet nicht\, dass ihr eine Anmeldung
  bekommt! Wir versuchen natürlich\, über diesen Weg so viele Anmeldungen
  wie möglich zur Verfügung zu stellen.\nTagespässe\n\nDie Tagespässe
  sind für alle\, die die GPN nur einen Tag besuchen möchten oder spontan
  von der GPN erfahren. Wer von weiter weg anreist\, darf sich nicht darauf
  verlassen\, dass Tagespässe verfügbar sind\, diese sind für
  Interessierte aus Karlsruhe gedacht.\n\nEs gibt nur ein begrenztes
  Kontigent an Tagespässen. Wir kommunizieren die Verfügbarkeit von
  Tagespässen mit einem Ampelkonzept (Grün\, Gelb\, Rot). Grün
  bedeutet\, dass noch viele Tagespässe verfügbar sind. Gelb bedeutet\,
  dass der Zutritt absehbar beschränkt werden kann. Bei Rot ist der
  Zutritt nur noch mit Anmeldung oder bereits erhaltenem Tagespass
  möglich.\nKinder und Jugendliche\n\nKinder und Jugendliche bis 16 Jahre
  können bei einer Anmeldung kostenlos dazugebucht werden.\n\nMehr Infos
  zur Anmeldung findet ihr in den FAQ.\nHelfen\n\nDa die
  Gulaschprogrammiernacht vollständig von Freiwilligen organisiert und
  ausgerichtet wird\, ist sie wesentlich auf tatkräftige Unterstützung
  angewiesen. So sind hier »Trolle«\, die zum Gelingen der GPN einen
  unschätzbaren Beitrag liefern\, anders als in Internet-Diskussionen\,
  hoch angesehen. Es gibt in diesem Jahr auch einen Talk ("Trollen leicht
  gemacht") im Anschluss an das Opening\, in dem wir erklären\, wie das
  Helfen auf der GPN funktioniert und wie man das Trollsystem bedient. Also
  helft mit und trollt uns!\nDatum und Location\n\n19. - 22. Juni 2025 |
  Hochschule für Gestaltung (HfG) | Lorenzstr. 15 | 76135 Karlsruhe 
LOCATION:Hochschule für Gestaltung (HfG)
GEO:49.0020695;8.3836683
ORGANIZER:mailto:Entropia e.V.
END:VEVENT
END:VCALENDAR
