BEGIN:VCALENDAR
VERSION:2.0
PRODID:karlsunruh.org
METHOD:REQUEST
BEGIN:VEVENT
UID:6dc1a2bc-ff9a-4009-9f81-81bc1ee7c193
URL:https://karlsunruh.org/event/6dc1a2bc-ff9a-4009-9f81-81bc1ee7c193
SUMMARY:Vortrag und Diskussion: Anarchistische Pädagogik
DTSTART:20260406T140000Z
CATEGORIES:Vortrag\,Anarchismus
DESCRIPTION:Der Vortrag bietet eine Einführung in den Themenkomplex
  Pädagogik\, seine Akteure und ihr Verhältnis zu
  einander.\n\nAnschließend wird eine Verbindung zur anarchistischen
  Gesellschaftsutopie aufgezeigt\, um in der Frage nach Möglichkeiten
  anarchistischer Pädagogikkonzepte im Hier und Jetzt zu münden.\n\nUm
  dem Vortrag folgen zu können sind weder Vorkenntnisse im Bereich der
  Pädagogik\, noch in anarchistischer Theorie nötig.\n\nIm Anschluss an
  die Einführung gibt es die Möglichkeit der offenen Diskussion über
  Erziehungskonzepte und den Einfluss der Gesellschaft auf diese\, bzw.
  deren Einfluss auf die Gesellschaft.\n\nDer Vortrag richtet sich an
  alle\, die sich für die Themenkomplexe der Pädagogik und Erziehung
  interessieren und sich damit auseinandersetzen. Egal ob als Eltern\, als
  ausgebildete oder angehende Pädagog*innen oder aus reinem Interesse.\n
LOCATION:Café Noir\, Schauenburgstraße 5\, 76135 Karlsruhe
GEO:48.98860975680665;8.372009074104096
ORGANIZER:mailto:Café Noir,Anarchismus in Karlsruhe
END:VEVENT
END:VCALENDAR
