BEGIN:VCALENDAR
VERSION:2.0
PRODID:karlsunruh.org
METHOD:REQUEST
BEGIN:VEVENT
UID:6b363620-f89c-48c3-b257-ad36f7da68a1
URL:https://karlsunruh.org/event/6b363620-f89c-48c3-b257-ad36f7da68a1
SUMMARY:Karlsruher Digital Independence Day im AKK
DTSTART:20260503T100000Z
DTEND:20260503T140000Z
CATEGORIES:Workshop\,Sonstiges
DESCRIPTION:<p><b>Was?</b> Gemeinsam digital unabhängig werden von
  Tech-Monopolen!</p>\n<p><b>Wo?</b> AKK\, Engesserstraße 17\, 76131
  Karlsruhe\, Universität Karlsruhe</p>\n<p><b>Wann?</b> 12:00 bis 16:00
 </p> \n<p>\nAn den Digital Independence Days (DI.Days) kommen wir
  zusammen\, um uns unser digitales Leben zurückzuholen\; frei von
  Monopolen\, dezentral und demokratiefreundlich. Wir zeigen praxisnahe
  Beispiele\, wie man in kleinen Schritten unabhängig von den Lösungen
  digitaler Großkonzerne wird. Vom einfachen Wechsel des Messengers oder
  der Office-Software bis hin zum Umstieg auf Linux. Gemeinsam ist alles
  möglich! \n</p>\n<p>\nNeben technischer Unterstützung und guten
  Gesprächen gibt es leckere vegane Verpflegung für alle. Bring dein
  eigenes Gerät (Laptop\, Tablet oder Smartphone) und viele Fragen mit\,
  um direkt erste Schritte Richtung digitale Unabhängigkeit zu machen. \n
 </p>\n<p>\nWir freuen uns auf euch!\n</p>\n
LOCATION:AKK\, Engesserstraße 17\, 76131 Karlsruhe 
GEO:49.011174999999994;8.414607630701754
ORGANIZER:mailto:Entropia e.V.
END:VEVENT
END:VCALENDAR
