BEGIN:VCALENDAR
VERSION:2.0
PRODID:karlsunruh.org
METHOD:REQUEST
BEGIN:VEVENT
UID:64c00ea4-97fe-4379-89e9-a7efa45ecd5b
URL:https://karlsunruh.org/event/64c00ea4-97fe-4379-89e9-a7efa45ecd5b
SUMMARY:Karlsruher Digital Independence Day im ZKM
DTSTART:20260419T100000Z
DTEND:20260419T140000Z
CATEGORIES:Workshop\,Sonstiges
DESCRIPTION:<p>\n<b>19.04.2026\, 12-16 Uhr\, ZKM Karlsruhe Medialounge</b>
 \n</p>\n<p>\nSeit Januar 2026 finden in ganz Deutschland Digital
  Independence Days (DI.Days) statt. An DI.Days kommen wir zusammen und
  holen uns unser digitales Leben zurück — frei von Monopolen\,
  dezentral und demokratiefreundlich. Dabei werden praxisnahe Beispiele
  gezeigt\, wie man in kleinen Schritten unabhängig von den Lösungen
  digitaler Großkonzerne wird: Wie kann ich WhatsApp ersetzen und meine
  Daten schützen? Welche Alternativen gibt es zu Facebook und Instagram?
  Wie kann ich von Windows und Apple  auf Linux umsteigen? Viele weitere
  Umstiegsrezepte finden sich auch auf der Webseite der Initiative unter
  www.di.day.\n</p>\n<p>\nIn der Medialounge des ZKM veranstaltet das
  Medienkompetenz Team e.V. zusammen mit dem Entropia e.V. und dem
  KIT-Zentrum Mensch und Technik am 19.04.2026 von 12-16 Uhr den nächsten
  Digital Independence Day in Karlsruhe. Der DI.Day startet mit einer
  kurzen Einführung in das Thema digitale Unabhängigkeit. Im Anschluss
  können Erfahrungen ausgetauscht werden und an zahlreichen Stationen
  alternative Lösungen ausprobiert werden:\n</p>\n<ul>\n<li>-
  Betriebssysteme für Computer</li>\n<li>- Apps und Software\, wie z.B.
  Mail- und Büroprogramme\, Suchmaschinen\, Browser\, Bild- und
  Videobearbeitung\, Navigation</li>\n<li>- Alternativen zu WhatsApp</li>\n
 <li>- Alternativen zu den Social Media Platformen Instagram\, X oder
  Facebook</li>\n<li>- Digital Zusammenarbeiten</li>\n<li>- Gaming unter
  Linux</li>\n</ul>\n<p>\nBringt gerne eure eigenen Geräte mit. Wir
  unterstützen euch bei der Installation und Einrichtung und geben euch
  Tipps\, wo ihr in Karlsruhe weitere Anlaufstellen für euren Wechsel zu
  unabhängigen Lösungen findet.\n</p>
LOCATION:ZKM\, Lorenzstraße 19\, 76135 Karlsruhe
GEO:49.0012853;8.3836005
ORGANIZER:mailto:Entropia e.V.
END:VEVENT
END:VCALENDAR
