BEGIN:VCALENDAR
VERSION:2.0
PRODID:karlsunruh.org
METHOD:REQUEST
BEGIN:VEVENT
UID:53582414-eb66-4dec-9101-6fccd0ba5342
URL:https://karlsunruh.org/event/53582414-eb66-4dec-9101-6fccd0ba5342
SUMMARY:QUIZ: Sounds Familiar
DTSTART:20260422T180000Z
CATEGORIES:Party\,Kultur
DESCRIPTION:Mi\, 22.04.2026\nQUIZ: Sounds Familiar\nBeginn: 20:00
  Uhr\n\n\nWir haben Sounds Familiar erneut zu Gast und es darf wieder
  gebuzzert werden!\n\nBeim populären Musikquiz aus Berlin\, erwarten euch
  sowohl kurzweilige schriftliche Runden als auch die beliebten
  Buzzerrunden\, in denen es um Schnelligkeit geht. Kann euer Team obskure
  Coverversionen\, die besten Musikvideos aus alten MTViva-Zeiten\, auf
  exotischen Instrumenten nachgespielte Titelmelodien von TV-Serien\,
  Schnipsel von Albumcovern oder Gitarrensolos erkennen und
  zuordnen?\n\nAls "audiovisueller Overkill" wird das Quiz manchmal
  bezeichnet - es ist wohl als Kompliment gemeint. Es wird garantiert
  lustig\, spannend und natürlich musikalisch. Seid dabei und führt euer
  Team zum Sieg!\n\nDie maximale Teamgröße beträgt fünf Personen. Der
  Eintritt ist frei\, aber es wird eine Keksdose herumgereicht\, die gerne
  mit Kleingeld befüllt werden darf.\n\nGruppen-Anmeldungen bitte an
  laura@altehackerei.de!
LOCATION:AKK\, Engesserstraße 17\, 76131 Karlsruhe 
GEO:49.011174999999994;8.414607630701754
ORGANIZER:mailto:Alte Hackerei
END:VEVENT
END:VCALENDAR
