BEGIN:VCALENDAR
VERSION:2.0
PRODID:karlsunruh.org
METHOD:REQUEST
BEGIN:VEVENT
UID:461d1c07-70c4-4326-8b3c-61834a387a35
URL:https://karlsunruh.org/event/461d1c07-70c4-4326-8b3c-61834a387a35
SUMMARY:Fortbildung: Lass die Bubble platzen!
DTSTART:20260411T070000Z
DTEND:20260411T130000Z
CATEGORIES:Workshop\,Sonstiges
DESCRIPTION:ortbildung: Seid dabei und "Lasst die Bubble platzen!" 🫧
  📅Wann? Am 11.04.2026\, von 9 - 15 Uhr 🕛 📍Wo? SteamWork Karlsruhe
  (Roonstraße 23a) Interaktiver Workshop zur Stärkung von kritischer
  Medien- und Informationskompetenz: In einer globalisierten und digital
  vernetzten Welt werden Jugendliche und Erwachsene täglich mit einer Flut
  von Informationen konfrontiert. 🌊 Wir laden euch ein\, im Rahmen einer
  Fortbildung zu lernen\, Informationsquellen kritisch zu hinterfragen\,
  eure Urteilsfähigkeit zu stärken und Meinungsbildung zu fördern.
  Anmeldung bitte per Mail an info@glow-karlsruhe.org Mittagessen und
  Getränke sind inklusive. Bei Allergien\, Unverträglichkeiten oder
  sonstigem meldet euch gerne per Mail bei uns. ☕️🍴☺️ Mehr
  Infos: https://glow-karlsruhe.org/aktuelles/ Mehr Infos über das
  Workshopthema:
  https://mosaik-deutschland.de/projekte/lasst-die-bubble-platzen/
LOCATION:GloW Karslruhe e.V.\, Roonstraße 23a
GEO:49.0015269;8.3879422
ORGANIZER:mailto:GloW Karlsruhe e.V.
END:VEVENT
END:VCALENDAR
