BEGIN:VCALENDAR
VERSION:2.0
PRODID:karlsunruh.org
METHOD:REQUEST
BEGIN:VEVENT
UID:33aed751-1372-4430-bf87-eb6baf4dad71
URL:https://karlsunruh.org/event/33aed751-1372-4430-bf87-eb6baf4dad71
SUMMARY:Queerer Kunstmarkt
DTSTART:20260405T090000Z
DTEND:20260405T160000Z
CATEGORIES:Sonstiges\,Queerfeminismus
DESCRIPTION:🌈🎨🖍️📝 Am 05. April 2026 ist es wieder so weit und
  wir organisieren von 11 bis\n18 Uhr den dritten QUEEREN KUNSTMARKT im
  Queeren Zentrum Karlsruhe. Mit dabei\nsind über 20 regionalen (queeere)
  Künstler*innen\, die ihre Werke vorstellen.\n\n🆕 Es wird zusätzlich
  den ganzen Tag einen Workshop-Raum geben. (Mehr Infos\nfolgen)\n\n🤔 Ob
  Zeichnungen\, Bücher\, Schmuck\, Sticker\, interaktive Kunst oder
  textiles\nHandwerk … ihr könnt gespannt sein was euch erwarten
  wird!\n\n🥪 🎂 An dem Tag selbst könnt ihr euch Getränke und Snacks
  an unserer Theke\nkaufen\, aber es wird auch einige kostenfreie
  Leckereien geben.\n\nKommt vorbei und unterstützt Queere
  Kunst!\n\n\n\n-- 🇬🇧 ENGLISH BELOW 🇬🇧
  --\n\n🌈🎨🖍️📝 On the 5th of April 2026 we will organize the
  third QUEER ART MARKET\nKARLSRUHE from 11am to 6pm in the Queeres Zentrum
  Karlsruhe with over 20 local\n(queer) artists.\n\n🆕 Throughout the day
  you have the opportunity to be part of an art workshop.\n(More
  Information soon)\n\n🤔 You can experience Drawings\, Books\, Jewelry
  \, Stickers\, interactive Art or\nhandycraft textiles … and much
  more.\n\n🥪 🎂 You can buy drinks and snacks at the bar or enjoy some
  free snacks aswell.\n\nCome on over and support (queer) local
  artists!\nhttps://queerkastle.de/veranstaltung/queerer-kunstmarkt-3/
LOCATION:queerKAstle - Karlsruher Zentrum für queere Vielfalt\,
  Liebigstraße 10-12\, 76135 Karlsruhe
GEO:49.0041532;8.37001
ORGANIZER:mailto:queerKAstle
END:VEVENT
END:VCALENDAR
