BEGIN:VCALENDAR
VERSION:2.0
PRODID:karlsunruh.org
METHOD:REQUEST
BEGIN:VEVENT
UID:2dcdafdb-150e-4c3a-9fa2-03d0720c0622
URL:https://karlsunruh.org/event/2dcdafdb-150e-4c3a-9fa2-03d0720c0622
SUMMARY:KONZERT: Julia Effekt
DTSTART:20260409T170000Z
CATEGORIES:Konzert\,Kultur
DESCRIPTION:Do\, 09.04.2026\nKONZERT: Julia Effekt\npräsentiert von
  kulturnews\, event. & SAU e.V.\nEinlass: 19:00 Uhr | Beginn: 20:30
  Uhr\n\n\nJulia Effekt verweben vielfältige musikalische Strömungen zu
  einer Ästhetik\, die zwischen Melancholie und Widerstand schwebt. Mit
  assoziativen Bildern\, kantigen Melodien und kraftvoll eingesetzter
  Sprache schaffen sie einen Raum\, in dem etablierte Wahrnehmungen
  gebrochen und Erwartungen hinterfragt werden. In einer Zeit\, in der
  Identität zunehmend von Algorithmen geformt und musikalischer Ausdruck
  oft in festen Mustern reproduziert wird\, entziehen sich Julia Effekt den
  konventionellen Kategorien und ergründen die Spannungsfelder des
  modernen Menschseins – das Ringen zwischen Authentizität und
  Inszenierung\, Erinnerung und Vergessen\, Zugehörigkeit und
  Entfremdung.\n\nAm 17.10.2025 erscheint ihr Debütalbum
  “Nachtparkett”. Die Tour “In den Augen das Parkett” startet am
  08.04.2026 in München.
LOCATION:Alte Hackerei\, Alter Schlachthof 11a\, 76131 Karlsruhe
GEO:49.0055385;8.4291958
ORGANIZER:mailto:Alte Hackerei
END:VEVENT
END:VCALENDAR
