BEGIN:VCALENDAR
VERSION:2.0
PRODID:karlsunruh.org
METHOD:REQUEST
BEGIN:VEVENT
UID:2a1a6462-7770-49d3-83a1-be89eb4e18c6
URL:https://karlsunruh.org/event/2a1a6462-7770-49d3-83a1-be89eb4e18c6
SUMMARY:KONZERT: Grandma's Ashes
DTSTART:20260415T180000Z
CATEGORIES:Konzert\,Kultur
DESCRIPTION:Mi\, 15.04.2026\nKONZERT: Grandma's Ashes\nKonzert präsentiert
  von SAU e.V.\nEinlass: 19:00 Uhr | Beginn: 20:00 Uhr\n\n\nMit der
  Intimität eines Trios erzählt Grandma’s Ashes vom Pariser Alltag\,
  der von Gewalt und Gleichgültigkeit geprägt ist. Angetrieben von der
  rohen Energie einer Live-Rock-Show\, die Konventionen in Frage stellt\,
  connecten die drei\, jungen Frauen mit ihrem Publikum.\n\n2021 und 2023
  veröffentlichten sie eine EP und anschließend ihr erstes Album\, auf
  dem sie kraftvolle Riffs mit klarer Stimme verbinden\, um die
  ambivalenten Emotionen einer intimen Odyssee auszudrücken. Die Poesie
  ihrer Texte vermittelt die feministische und ökologisch besorgte
  Botschaft einer von Zweifeln geplagten Generation und schlägt Alarm
  angesichts der raschen Erosion unserer Rechte und unserer
  Umwelt.\n\nGrandma’s Ashes spielten in Hunderten von
  Veranstaltungsorten in ganz Frankreich – darunter La Maroquinerie\, Le
  Trabendo in Paris – und auf renommierten Festivals wie Hellfest\,
  Motocultor und Francofolies sowie in einem Dutzend Clubs in Spanien. Im
  Frühjahr 2026 wird die Band zum ersten Mal in Deutschland\,
  Österreich\, Belgien und der Schweiz auftreten!\n\nAm 24. Oktober hat
  die Band ihr zweites Album BRUXISM veröffentlicht\, das ihrem Bedürfnis
  nach Experimentierfreudigkeit und künstlerischer Freiheit gerecht wird.
  Die neuen Songs\, die von New Wave- und Grunge-Klängen geprägt sind\,
  werden von der Bühne mit dem dringenden Bedürfnis angetrieben\, ihre
  engagierte Botschaft noch weiter zu verbreiten.\n\nPresented by 3C &
  Spider Promotion
LOCATION:Alte Hackerei\, Alter Schlachthof 11a\, 76131 Karlsruhe
GEO:49.0055385;8.4291958
ORGANIZER:mailto:Alte Hackerei
END:VEVENT
END:VCALENDAR
