BEGIN:VCALENDAR
VERSION:2.0
PRODID:karlsunruh.org
METHOD:REQUEST
BEGIN:VEVENT
UID:1ec6e32d-b9e6-48d7-9ba4-0d1f21fb541c
URL:https://karlsunruh.org/event/1ec6e32d-b9e6-48d7-9ba4-0d1f21fb541c
SUMMARY:Südweststadt Hinterhofflohmarkt
DTSTART:20260419T080000Z
DTEND:20260419T140000Z
CATEGORIES:Sonstiges\,Klimagerechtigkeit
DESCRIPTION:Beim Hinterhofflohmarkt in der Karlsruher Südweststadt öffnen
  sich wieder versteckte Höfe und Einfahrten – mit liebevoll aufgebauten
  Ständen\, kleinen Leckereien und ganz viel Nachbarschaftsflair. Hier
  findest du echte Fundstücke\, kommst mit Leuten ins Gespräch und
  entdeckst Ecken\, die man sonst leicht übersieht.\n\nLos geht’s am
  Samstag\, 19.04.2026\, von 10–16 Uhr. Startpunkt für Infos und
  Orientierung ist Steamwork (Roonstr. 23a). Einfach vorbeikommen\, durch
  die Höfe schlendern und treiben lassen – ideal zum Stöbern\, Bummeln
  und Genießen.
LOCATION:GloW Karslruhe e.V.\, Roonstraße 23a
GEO:49.0015269;8.3879422
ORGANIZER:mailto:GloW Karlsruhe e.V.
END:VEVENT
END:VCALENDAR
