BEGIN:VCALENDAR
VERSION:2.0
PRODID:karlsunruh.org
METHOD:REQUEST
BEGIN:VEVENT
UID:17ea89b9-7d8e-4e37-8609-169f2d34633e
URL:https://karlsunruh.org/event/17ea89b9-7d8e-4e37-8609-169f2d34633e
SUMMARY:Dear Future Children
DTSTART:20260325T180000Z
DTEND:20260325T200000Z
CATEGORIES:Film\,Klimagerechtigkeit
DESCRIPTION:Drei Länder\, drei Konflikte\, drei Frauen und ein ziemlich
  ähnliches Schicksal: Tränengas und Gummigeschosse\, Wasserwerfer und
  tödliche Dürre\, Regierungen\, die nicht zuhören wollen und eine junge
  Generation\, die zurecht wütend ist. Doch sie haben nicht vor
  aufzugeben: weder Hilda\, die in Uganda für die Zukunft unserer Umwelt
  kämpft\, noch Rayen oder Pepper\, die in Santiago de Chile und Hongkong
  für mehr soziale Gerechtigkeit und Demokratie auf die Straßen gehen.
  Sie kämpfen weiter. Für ihre und unsere zukünftigen
  Kinder\n\nhttps://kinemathek-karlsruhe.de/film/dear-future-children/
LOCATION:Kinemathek\, Kaiserpassage 6 76133 Karlsruhe
GEO:49.010608500000004;8.396970535255974
ORGANIZER:mailto:Kinemathek
END:VEVENT
END:VCALENDAR
