BEGIN:VCALENDAR
VERSION:2.0
PRODID:karlsunruh.org
METHOD:REQUEST
BEGIN:VEVENT
UID:0f9b5b84-312a-4cef-b5a8-024acbb14de2
URL:https://karlsunruh.org/event/0f9b5b84-312a-4cef-b5a8-024acbb14de2
SUMMARY:LITURGY + support
DTSTART:20260723T170000Z
DTEND:20260723T190000Z
CATEGORIES:Konzert\,Kultur
DESCRIPTION:Einlass: 19:00\nBeginn: 20:00\n\nis the project of Haela
  Ravenna Hunt-Hendrix\, whose yearning\, energetic transcendental black
  metal” exists in the space between metal\, art music and
  sacred\nritual. Its current lineup includes Mario Miron (guitar)\, Tia
  Vincent-Clark (bass) and Leo Didkovsky (drums). Celebrated for their
  fusion of sincere emotion\, compositional complexity\, stylistic daring
  and intense live energy\, the band is simultaneously a medium and
  platform for drama and theology.\n It was founded in the context of
  Brooklyn DIY as a solo project by Hunt-Hendrix in 2005 while she was
  studying philosophy and classical composition at Columbia.  In 2009
  Hunt-Hendrix stimulated fervent conversation in the music world with her
  text “Transcendental Black Metal”\, and after expanding to a quartet
  they made waves globally with their 2011 sophomore album\nAesthethica for
  fusing black metal with math rock and infusing the form with a
  counterintuitively loving\, emotional energy. Their ambitious 2015 album
  The Ark Work was controversial for its incorporation of IDM and trap
  production into their musical language.\nIn fall 2019 they solidified
  this sound world with their highly acclaimed fourth studio album
  H.A.Q.Q.\, which is tied to an ongoing philosophical YouTube lecture
  series. Their fifth studio album\, an opera entitled Origin of the
  Alimonies\, was released in November 2020\, recorded with an eight-piece
  chamber ensemble and performed at Roadburn festival in 2021 as the live
  score to an eponymous film created by Hunt-Hendrix.  After a solo
  sculpture exhibition in 2022\,\nthe album 93696 was released in 2023
  followed by an extensive world tour.\n\n
LOCATION:p8\, Schauenburgstraße 5\, 76135 Karlsruhe
GEO:48.9887950677221;8.372030230380888
ORGANIZER:mailto:p8
END:VEVENT
END:VCALENDAR
