BEGIN:VCALENDAR
VERSION:2.0
PRODID:karlsunruh.org
METHOD:REQUEST
BEGIN:VEVENT
UID:0f432522-a916-4d36-96b1-c27b79f3e95c
URL:https://karlsunruh.org/event/0f432522-a916-4d36-96b1-c27b79f3e95c
SUMMARY:Alles muss man selber machen. Zur Geschichte der Rätebewegung &
  Input zu aktuellen Situation in Rojava
DTSTART:20260314T173000Z
CATEGORIES:Vortrag\,Sonstiges
DESCRIPTION:»Alles muss man selber machen« ist ein Buch über Menschen\,
  die sagen: So kann es nicht weitergehen – wir nehmen unser Schicksal
  selbst in die Hand. Ob in den Straßen von Paris 1871\, den Fabriken
  Petrograds 1917\, den Städten und Dörfern Nordsyriens oder im Urwald
  von Chiapas – überall entstanden im Zuge von sozialen Konflikten und
  Aufständen Räte: Selbstorganisierte Zusammenschlüsse in allen
  gesellschaftlichen Bereichen\, die nicht nur protestieren\, sondern
  beginnen\, das gesamte Leben neu zu gestalten.\n\nChristopher Wimmer
  erzählt in lebendigen Szenen\, wie solche Bewegungen entstehen\, wie sie
  funktionieren – und woran sie oft auch scheitern. Er zeigt an
  unterschiedlichen historischen Beispielen\, wie Menschen Schulen und
  Krankenhäuser selbst verwalten\, wie sie Entscheidungen im Kollektiv
  treffen\, Güter verteilen\, Streit schlichten\, sich verteidigen –
  ohne zentrale Regierung oder Staat. Dieses Buch bringt Geschichte zum
  Sprechen: mit Geschichten von Mut\, Hoffnung\, aber auch Niederlagen. Es
  fragt\, was wir von den Rätebewegungen vergangener und heutiger Tage
  lernen können – für eine selbstverwaltete und demokratische
  Gesellschaft\, die nicht nur auf dem Papier steht\, sondern im Alltag
  gelebt wird.\n\nDa Christopher Wimmer auch ein Buch über Rojava
  geschrieben hat (Land der Utopie? Alltag in Rojava\, Edition Nautilus)
  können wir den Abend auch nutzen\, um über die aktuelle Entwicklung in
  Syrien und die Angriffe auf die kurdische Selbstverwaltung zu sprechen.
LOCATION:Café Noir\, Schauenburgstraße 5\, 76135 Karlsruhe
GEO:48.98860975680665;8.372009074104096
ORGANIZER:mailto:What´s Left...?
END:VEVENT
END:VCALENDAR
